BEGIN:VCALENDAR
VERSION:2.0
PRODID:-//wp-events-plugin.com//7.2.3.1//EN
TZID:Europe/Berlin
X-WR-TIMEZONE:Europe/Berlin
BEGIN:VEVENT
UID:1215@digitalzentrum-magdeburg.de
DTSTART;TZID=Europe/Berlin:20260424T130000
DTEND;TZID=Europe/Berlin:20260424T180000
DTSTAMP:20260423T094622Z
URL:https://www.digitalzentrum-magdeburg.de/termine/artificialintelligence
 -neue-perspektiven/
SUMMARY:ARTI·fi·cial intelligence: Neue Perspektiven
DESCRIPTION:Was passiert\, wenn Maschinen nicht nur rechnen\, sondern gesta
 lten?\nWenn Algorithmen Ideen anstoßen\, Denkgewohnheiten hinterfragen un
 d neue Perspektiven eröffnen? Unsere Abschlussveranstaltung der KI-Reihe 
 lädt dazu ein\, Künstliche Intelligenz jenseits technischer Schlagworte 
 zu erleben – als Impulsgeberin für Kreativität und Innovation. Entdeck
 en Sie\, wie KI Kunst\, Wirtschaft und Denken verbindet – und welche Fra
 gen sich daraus für die Zukunft ergeben.
ATTACH;FMTTYPE=image/jpeg:https://www.digitalzentrum-magdeburg.de/wp-conte
 nt/uploads/2024/02/VST_ARTi.jpg
CATEGORIES:Handwerksspezifischer Transfer,Künstliche Intelligenz &amp;
 Maschinelles Lernen
LOCATION:Elbfabrik des Fraunhofer IFF\, Joseph-von-Fraunhofer-Straße 1\, M
 agdeburg\, 39106\, Deutschland
GEO:52.141443;11.657201
X-APPLE-STRUCTURED-LOCATION;VALUE=URI;X-ADDRESS=Joseph-von-Fraunhofer-Stra
 ße 1\, Magdeburg\, 39106\, Deutschland;X-APPLE-RADIUS=100;X-TITLE=Elbfabr
 ik des Fraunhofer IFF:geo:52.141443,11.657201
END:VEVENT
BEGIN:VTIMEZONE
TZID:Europe/Berlin
X-LIC-LOCATION:Europe/Berlin
BEGIN:DAYLIGHT
DTSTART:20260329T030000
TZOFFSETFROM:+0100
TZOFFSETTO:+0200
TZNAME:CEST
END:DAYLIGHT
END:VTIMEZONE
END:VCALENDAR