BEGIN:VCALENDAR
VERSION:2.0
PRODID:-//wp-events-plugin.com//7.2.3.1//EN
TZID:Europe/Berlin
X-WR-TIMEZONE:Europe/Berlin
BEGIN:VEVENT
UID:540@digitalzentrum-magdeburg.de
DTSTART;TZID=Europe/Berlin:20211021T100000
DTEND;TZID=Europe/Berlin:20211021T120000
DTSTAMP:20210810T084950Z
URL:https://www.digitalzentrum-magdeburg.de/termine/assistenzsysteme-in-de
 r-instandhaltung-2/
SUMMARY:Assistenzsysteme in der Instandhaltung
DESCRIPTION:Am 21.10.2021 erfahren Sie in unserem Online-Seminar „Assiste
 nzsysteme in der Instandhaltung”\, wie Sie die richtigen Instandhaltungs
 strategien für Ihr Unternehmen auswählen. Erhalten Sie einen Einblick in
  verschiedene Verfahren\, vorausschauende Ansätze und entsprechende Syste
 me. Unser Demonstrator zeigt Ihnen praxisnah ein Assistenzsystem für die 
 Unterstützung bei der Durchführung von Instandhaltungsaktivitäten (Durc
 hführung und Dokumentation von wiederkehrenden Prüfungen\, Fehlersuche e
 tc.).\n\n[av_toggle_container faq_markup='' initial='0' mode='accordion' s
 ort='' styling='av-minimal-toggle' colors='' font_color='' background_colo
 r='' border_color='' colors_current='custom' font_color_current='#b02b2c' 
 background_current='bg_color' background_color_current='' background_gradi
 ent_current_color1='' background_gradient_current_color2='' background_gra
 dient_current_direction='vertical' hover_colors='' hover_background_color=
 '' hover_font_color='' alb_description='' id='' custom_class='' av_uid='av
 -3r51y03']\n[av_toggle title='WELCHE FRAGEN WERDEN WÄHREND DES ONLINE-SEM
 INARS BEANTWORTET?' tags='' custom_id='' av_uid='av-3mou743']\n\n 	Welche 
 aktuellen Herausforderungen bestehen bei der Instandhaltung komplexer prod
 uktionstechnischer Anlagen?\n 	Welche Potenziale bietet der Einsatz von di
 gitalen Assistenzsystemen?\n 	Welche Arten von Assistenzsystemen bestehen?
  Wie ist der grundsätzliche Aufbau\, was ist bei der Entwicklung und Einf
 ührung zu beachten?\n 	Welche Erfolgsbeispiele für den Einsatz digitaler
  Assistenzsysteme in Unternehmen gibt es?\n 	Welche Möglichkeiten ergeben
  sich durch den Einsatz von Künstlicher Intelligenz hinsichtlich effizien
 ter Instandhaltungsprozesse?\n\n[/av_toggle]\n[av_toggle title='WELCHE THE
 ORETISCHEN UND PRAKTISCHEN INHALTE WERDEN BEHANDELT?' tags='' custom_id=''
  av_uid='av-2uy5ozn']\n\n 	Instandhaltungsstrategien – von reaktiv bis p
 rädiktiv\n 	Assistenzarten – Planungsunterstützung\, Entscheidungsunte
 rstützung\, Durchführungsunterstützung\n 	Erfahrungen und Stolpersteine
  aus der Praxis bezogen auf die Auswahl und die Einführung des richtigen 
 Assistenzsystems\n 	Demonstration des Assistenzsystems „Durchgängige Di
 gitalisierung von Prozessen der wiederkehrenden Prüfung“\n\n[/av_toggle
 ]\n[av_toggle title='WER SOLLTE TEILNEHMEN?' tags='' custom_id='' av_uid='
 av-2dwv2qr']\n\nInstandhaltungsverantwortliche\, Produktionsleitende und G
 eschäftsführer:innen\, die\n\n 	Unvorhergesehene Ausfälle von Maschinen
  und Anlagen vermeiden wollen\n 	nach Methoden und Werkzeugen suchen\, um 
 das Verhalten von Anlagen besser zu verstehen\, situationsbezogen Informat
 ionen bereitzustellen und Erfahrungen zu sichern\n 	Anregungen für sicher
 e und effiziente Instandhaltungsprozesse suchen\n 	an Impulsen für eine d
 igitale Unterstützung ihrer Instandhaltungsprozesse zur Entlastung ihrer 
 Mitarbeitenden von administrativen Tätigkeiten interessiert sind\n\n[/av_
 toggle]\n[av_toggle title='WAS KÖNNEN SIE ERWARTEN?' tags='' custom_id=''
  av_uid='av-22u0slf']\nEin kurzweiliges und abwechslungsreiches Online-Sem
 inar\, dass ein realistisches Bild von Potenzialen und Grenzen des Einsatz
 es digitaler Assistenzsysteme in der Instandhaltung aufzeigt.\n[/av_toggle
 ]\n[av_toggle title='WAS KÖNNEN SIE NICHT ERWARTEN?' tags='' custom_id=''
  av_uid='av-1grm44j']\nEine detaillierte Analyse Ihrer Instandhaltungsproz
 esse sowie konkrete Empfehlungen zur Systemauswahl.\n[/av_toggle]\n[av_tog
 gle title='HINWEIS ZUR NUTZUNG VON ZOOM' tags='' custom_id='' av_uid='av-4
 xhsub']\nMit Ihrer Registrierung und Teilnahme am virtuellen Sprechtag/vir
 tuellen Meeting stimmen Sie der Nutzung der Zoom-Plattform der Zoom Video 
 Communications\, Inc. zu. Zum Umgang mit personenbezogene Daten verweisen 
 wir auf unsere Datenschutzerklärung sowie die verlinkten Angaben des Anbi
 eters. Weiterführende Informationen zu unseren gewählten Einstellungen d
 er Zoom-Plattform\, technischen Hinweisen und Anleitungen finden Sie auf u
 nserer Seite zur Nutzung von Zoom.\n[/av_toggle]\n[/av_toggle_container]\n
 \n&nbsp\;\n\nDIE TEILNAHME AN DER VERANSTALTUNG IST KOSTENFREI. EINE ANMEL
 DUNG IST AUFGRUND DER BEGRENZTEN KAPAZITÄTEN BIS ZUM 20.10.2021 (09:00 Uh
 r) ZWINGEND NOTWENDIG!\n\n\nDIE ZOOM-ZUGANGSDATEN ERHALTEN SIE AB SOFORT I
 N DEN BESTÄTIGUNGS- UND ERINNERUNGSMAILS DER VERANSTALTUNG.\n\n[av_promob
 ox button='no' label='Klick mich' link='manually\,http://' link_target='' 
 color='theme-color' custom_bg='#ffffff' custom_font='#b50900' size='large'
  icon_select='no' icon='ue800' font='entypo-fontello' box_color='custom' b
 ox_custom_font='#b50900' box_custom_bg='#d3d1d1' box_custom_border='#b5090
 0' admin_preview_bg='' av_uid='av-w9pgyr']\n\n►Referierende\n\nSergii Ko
 lomiichuk // Künstliche Intelligenz &amp\; Maschinelles Lernen\n\nUwe Kl
 äger // Künstliche Intelligenz &amp\; Maschinelles Lernen\n\n[/av_promob
 ox]
ATTACH;FMTTYPE=image/jpeg:https://www.digitalzentrum-magdeburg.de/wp-conte
 nt/uploads/2021/06/Header-digitale-Assistenzsysteme.jpg
CATEGORIES:Künstliche Intelligenz &amp; Maschinelles Lernen
END:VEVENT
BEGIN:VTIMEZONE
TZID:Europe/Berlin
X-LIC-LOCATION:Europe/Berlin
BEGIN:DAYLIGHT
DTSTART:20210328T030000
TZOFFSETFROM:+0100
TZOFFSETTO:+0200
TZNAME:CEST
END:DAYLIGHT
END:VTIMEZONE
END:VCALENDAR