BEGIN:VCALENDAR
VERSION:2.0
PRODID:-//wp-events-plugin.com//7.2.3.1//EN
TZID:Europe/Berlin
X-WR-TIMEZONE:Europe/Berlin
BEGIN:VEVENT
UID:480@digitalzentrum-magdeburg.de
DTSTART;TZID=Europe/Berlin:20210622T100000
DTEND;TZID=Europe/Berlin:20210622T120000
DTSTAMP:20210601T122822Z
URL:https://www.digitalzentrum-magdeburg.de/termine/assistenzsysteme-in-de
 r-instandhaltung/
SUMMARY:Assistenzsysteme in der Instandhaltung
DESCRIPTION:Am 22.06.2021 erfahren Sie in unserem Online-Seminar „Assiste
 nzsysteme in der Instandhaltung"\, wie Sie die richtigen Instandhaltungsst
 rategien für Ihr Unternehmen auswählen. Erhalten Sie einen Einblick in v
 erschiedene Verfahren\, vorausschauende Ansätze und entsprechende Systeme
 . Unser Demonstrator zeigt Ihnen praxisnah ein Assistenzsystem für die Un
 terstützung bei der Durchführung von Instandhaltungsaktivitäten (Durchf
 ührung und Dokumentation von wiederkehrenden Prüfungen\, Fehlersuche etc
 .).\nWELCHE FRAGEN WERDEN WÄHREND DES ONLINE-SEMINARS BEANTWORTET?\n\n 	W
 elche aktuellen Herausforderungen bestehen bei der Instandhaltung komplexe
 r produktionstechnischer Anlagen?\n 	Welche Potenziale bietet der Einsatz 
 von digitalen Assistenzsystemen?\n 	Welche Arten von Assistenzsystemen bes
 tehen? Wie ist der grundsätzliche Aufbau\, was ist bei der Entwicklung un
 d Einführung zu beachten?\n 	Welche Erfolgsbeispiele für den Einsatz dig
 italer Assistenzsysteme in Unternehmen gibt es?\n 	Welche Möglichkeiten e
 rgeben sich durch den Einsatz von Künstlicher Intelligenz hinsichtlich ef
 fizienter Instandhaltungsprozesse?\n\nWELCHE THEORETISCHEN UND PRAKTISCHEN
  INHALTE WERDEN BEHANDELT?\n\n 	Instandhaltungsstrategien – von reaktiv 
 bis prädiktiv\n 	Assistenzarten – Planungsunterstützung\, Entscheidung
 sunterstützung\, Durchführungsunterstützung\n 	Erfahrungen und Stolpers
 teine aus der Praxis bezogen auf die Auswahl und die Einführung des richt
 igen Assistenzsystems\n 	Demonstration des Assistenzsystems „Durchgängi
 ge Digitalisierung von Prozessen der wiederkehrenden Prüfung“\n\nWER SO
 LLTE TEILNEHMEN?\nInstandhaltungsverantwortliche\, Produktionsleiter und G
 eschäftsführer die\n\n 	Unvorhergesehene Ausfälle von Maschinen und Anl
 agen vermeiden wollen\n 	nach Methoden und Werkzeugen suchen\, um das Verh
 alten von Anlagen besser zu verstehen\, situationsbezogen Informationen be
 reitzustellen und Erfahrungen zu sichern\n 	Anregungen für sichere und ef
 fiziente Instandhaltungsprozesse suchen\n 	an Impulsen für eine digitale 
 Unterstützung ihrer Instandhaltungsprozesse zur Entlastung ihrer Mitarbei
 ter von administrativen Tätigkeiten interessiert sind\n\nWAS KÖNNEN SIE 
 ERWARTEN?\nEin kurzweiliges und abwechslungsreiches Online-Seminar\, dass 
 ein realistisches Bild von Potenzialen und Grenzen des Einsatzes digitaler
  Assistenzsysteme in der Instandhaltung aufzeigt.\nWAS KÖNNEN SIE NICHT E
 RWARTEN?\nEine detaillierte Analyse Ihrer Instandhaltungsprozesse sowie ko
 nkrete Empfehlungen zur Systemauswahl.\n\nDIE TEILNAHME AN DER VERANSTALTU
 NG IST KOSTENFREI. EINE ANMELDUNG IST AUFGRUND DER BEGRENZTEN KAPAZITÄTEN
  BIS ZUM 21.06.2021 (09:00 Uhr) ZWINGEND NOTWENDIG!\n\n\nDIE ZOOM-ZUGANGSD
 ATEN ERHALTEN SIE AB SOFORT IN DEN BESTÄTIGUNGS- UND ERINNERUNGSMAILS DER
  VERANSTALTUNG.\n\n[av_promobox button='no' label='Klick mich' link='manua
 lly\,http://' link_target='' color='theme-color' custom_bg='#ffffff' custo
 m_font='#b50900' size='large' icon_select='no' icon='ue800' font='entypo-f
 ontello' box_color='custom' box_custom_font='#b50900' box_custom_bg='#d3d1
 d1' box_custom_border='#b50900' admin_preview_bg='']\n\n►Referenten\n\nS
 ergii Kolomiichuk // Künstliche Intelligenz &amp\; Maschinelles Lernen\n\
 nFrank Ryll // Künstliche Intelligenz &amp\; Maschinelles Lernen\n\n[/av_
 promobox]\n\n►Hinweis zur Nutzung von ZOOM: \n\nMit Ihrer Registrierung 
 und Teilnahme am virtuellen Sprechtag/virtuellen Meeting stimmen Sie der N
 utzung der Zoom-Plattform der Zoom Video Communications\, Inc. zu. Zum Umg
 ang mit personenbezogene Daten verweisen wir auf unsere Datenschutzerklär
 ung sowie die verlinkten Angaben des Anbieters. Weiterführende Informatio
 nen zu unseren gewählten Einstellungen der Zoom-Plattform\, technischen H
 inweisen und Anleitungen finden Sie auf unserer Seite zur Nutzung von Zoom
 .
ATTACH;FMTTYPE=image/jpeg:https://www.digitalzentrum-magdeburg.de/wp-conte
 nt/uploads/2020/01/Teaser_KI_Formate.jpg
CATEGORIES:Künstliche Intelligenz &amp; Maschinelles Lernen
END:VEVENT
BEGIN:VTIMEZONE
TZID:Europe/Berlin
X-LIC-LOCATION:Europe/Berlin
BEGIN:DAYLIGHT
DTSTART:20210328T030000
TZOFFSETFROM:+0100
TZOFFSETTO:+0200
TZNAME:CEST
END:DAYLIGHT
END:VTIMEZONE
END:VCALENDAR