BEGIN:VCALENDAR
VERSION:2.0
PRODID:-//wp-events-plugin.com//7.2.3.1//EN
TZID:Europe/Berlin
X-WR-TIMEZONE:Europe/Berlin
BEGIN:VEVENT
UID:1114@digitalzentrum-magdeburg.de
DTSTART;TZID=Europe/Berlin:20250813T150000
DTEND;TZID=Europe/Berlin:20250813T160000
DTSTAMP:20250813T140548Z
URL:https://www.digitalzentrum-magdeburg.de/termine/auftakt-onlinesichtbar
 keit-2/
SUMMARY:Online & unSichtbar? - Auftakt:  Erhöhen Sie Ihre Online-Sichtbark
 eit
DESCRIPTION:Unsere neue Reihe „Online & unSichtbar? Erhöhen Sie Ihre Onl
 ine-Sichtbarkeit“ nimmt Sie an die Hand und bietet Ihnen die Möglichkei
 t\, mit alltagsnahen Praxisworkshops Ihre Onlinesichtbarkeit anzupacken. V
 orwissen ist dafür nicht notwendig. In der Online-Auftaktveranstaltung er
 halten Sie einen Überblick über die Veranstaltungsreihe und können dann
  entscheiden\, welche Veranstaltungen Sie\, wo besuchen wollen.\n\n
ATTACH;FMTTYPE=image/jpeg:https://www.digitalzentrum-magdeburg.de/wp-conte
 nt/uploads/2024/11/Auftakt_640px.png
CATEGORIES:Digitale Geschäftsmodelle
END:VEVENT
BEGIN:VTIMEZONE
TZID:Europe/Berlin
X-LIC-LOCATION:Europe/Berlin
BEGIN:DAYLIGHT
DTSTART:20250330T030000
TZOFFSETFROM:+0100
TZOFFSETTO:+0200
TZNAME:CEST
END:DAYLIGHT
END:VTIMEZONE
END:VCALENDAR