BEGIN:VCALENDAR
VERSION:2.0
PRODID:-//wp-events-plugin.com//7.2.3.1//EN
TZID:Europe/Berlin
X-WR-TIMEZONE:Europe/Berlin
BEGIN:VEVENT
UID:1100@digitalzentrum-magdeburg.de
DTSTART;TZID=Europe/Berlin:20250619T150000
DTEND;TZID=Europe/Berlin:20250619T160000
DTSTAMP:20250623T110201Z
URL:https://www.digitalzentrum-magdeburg.de/termine/autonomes-fahren-ki/
SUMMARY:Autonomes Fahren – Sensoren\, Daten und KI – Chance oder Risiko
 ?
DESCRIPTION:Autonomes Fahren ist längst kein Science-Fiction-Szenario mehr
  – weltweit arbeiten Unternehmen\, Forschungseinrichtungen und Regierung
 en daran\, den Straßenverkehr durch automatisierte Fahrzeuge grundlegend 
 zu verändern. Doch was bedeutet „autonom“ eigentlich genau? Und wie w
 eit sind wir heute – technologisch\, rechtlich und gesellschaftlich?\nDe
 r Vortrag informiert das Publikum über die zentralen Aspekte dieser Entwi
 cklung.
ATTACH;FMTTYPE=image/jpeg:https://www.digitalzentrum-magdeburg.de/wp-conte
 nt/uploads/2025/06/Unbenannt-1.png
CATEGORIES:Nachhaltige Automation und Vernetzung
LOCATION:Denkfabrik des ifak – Institut für Automation und Kommunikation
  e.V.\, Werner-Heisenberg-Straße 1\, Magdeburg\, Sachsen-Anhalt\, 39106\,
  Deutschland
GEO:52.142336;11.657368399999996
X-APPLE-STRUCTURED-LOCATION;VALUE=URI;X-ADDRESS=Werner-Heisenberg-Straße 1
 \, Magdeburg\, Sachsen-Anhalt\, 39106\, Deutschland;X-APPLE-RADIUS=100;X-T
 ITLE=Denkfabrik des ifak – Institut für Automation und Kommunikation e.
 V.:geo:52.142336,11.657368399999996
END:VEVENT
BEGIN:VTIMEZONE
TZID:Europe/Berlin
X-LIC-LOCATION:Europe/Berlin
BEGIN:DAYLIGHT
DTSTART:20250330T030000
TZOFFSETFROM:+0100
TZOFFSETTO:+0200
TZNAME:CEST
END:DAYLIGHT
END:VTIMEZONE
END:VCALENDAR