BEGIN:VCALENDAR
VERSION:2.0
PRODID:-//wp-events-plugin.com//7.2.3.1//EN
TZID:Europe/Berlin
X-WR-TIMEZONE:Europe/Berlin
BEGIN:VEVENT
UID:1180@digitalzentrum-magdeburg.de
DTSTART;TZID=Europe/Berlin:20260430T100000
DTEND;TZID=Europe/Berlin:20260430T160000
DTSTAMP:20260418T204258Z
URL:https://www.digitalzentrum-magdeburg.de/termine/chatbot-werkstatt-prom
 pting-tools-und-praxisbeispiele/
SUMMARY:Chatbot-Werkstatt Prompting\, Tools und Praxisbeispiele
DESCRIPTION:In dieser praxisnahen Werkstatt lernen Sie das Konzept von Retr
 ieval-Augmented Generation (RAG) kennen\, erfahren\, worauf es beim Datens
 chutz ankommt und bauen selbst einen einfachen Chatbot. Zudem tauschen Sie
  sich mit den ReferentInnen und Personen aus anderen Unternehmen über Erf
 ahrungen und Tools aus.
ATTACH;FMTTYPE=image/jpeg:https://www.digitalzentrum-magdeburg.de/wp-conte
 nt/uploads/2025/08/Chatbot-Werkstatt2.png
CATEGORIES:Künstliche Intelligenz &amp; Maschinelles Lernen
END:VEVENT
BEGIN:VTIMEZONE
TZID:Europe/Berlin
X-LIC-LOCATION:Europe/Berlin
BEGIN:DAYLIGHT
DTSTART:20260329T030000
TZOFFSETFROM:+0100
TZOFFSETTO:+0200
TZNAME:CEST
END:DAYLIGHT
END:VTIMEZONE
END:VCALENDAR