BEGIN:VCALENDAR
VERSION:2.0
PRODID:-//wp-events-plugin.com//7.2.3.1//EN
TZID:Europe/Berlin
X-WR-TIMEZONE:Europe/Berlin
BEGIN:VEVENT
UID:1138@digitalzentrum-magdeburg.de
DTSTART;TZID=Europe/Berlin:20251030T100000
DTEND;TZID=Europe/Berlin:20251030T160000
DTSTAMP:20251029T074353Z
URL:https://www.digitalzentrum-magdeburg.de/termine/chatbot-werkstatt/
SUMMARY:Chatbot-Werkstatt Prompting\, Tools und Praxisbeispiele
DESCRIPTION:In dieser praxisnahen Werkstatt lernen Sie das Konzept von Retr
 ieval-Augmented Generation (RAG) kennen\, erfahren\, worauf es beim Datens
 chutz ankommt und bauen selbst einen einfachen Chatbot. Zudem tauschen Sie
  sich mit den ReferentInnen und Personen aus anderen Unternehmen über Erf
 ahrungen und Tools aus.
ATTACH;FMTTYPE=image/jpeg:https://www.digitalzentrum-magdeburg.de/wp-conte
 nt/uploads/2025/08/Chatbot-Werkstatt2.png
CATEGORIES:Künstliche Intelligenz &amp; Maschinelles Lernen
LOCATION:Otto-von-Guericke-Universität Magdeburg\, Gebäude 29\, Universit
 ätsplatz 2\, Magdeburg\, 39106\, Deutschland
GEO:52.139675;11.644779
X-APPLE-STRUCTURED-LOCATION;VALUE=URI;X-ADDRESS=Universitätsplatz 2\, Magd
 eburg\, 39106\, Deutschland;X-APPLE-RADIUS=100;X-TITLE=Otto-von-Guericke-U
 niversität Magdeburg\, Gebäude 29:geo:52.139675,11.644779
END:VEVENT
BEGIN:VTIMEZONE
TZID:Europe/Berlin
X-LIC-LOCATION:Europe/Berlin
BEGIN:STANDARD
DTSTART:20251026T020000
TZOFFSETFROM:+0200
TZOFFSETTO:+0100
TZNAME:CET
END:STANDARD
END:VTIMEZONE
END:VCALENDAR