BEGIN:VCALENDAR
VERSION:2.0
PRODID:-//wp-events-plugin.com//7.2.3.1//EN
TZID:Europe/Berlin
X-WR-TIMEZONE:Europe/Berlin
BEGIN:VEVENT
UID:1111@digitalzentrum-magdeburg.de
DTSTART;TZID=Europe/Berlin:20250826T100000
DTEND;TZID=Europe/Berlin:20250826T120000
DTSTAMP:20250829T092733Z
URL:https://www.digitalzentrum-magdeburg.de/termine/chatten-mit-eigenen-da
 ten-ein-gpt-modell-lokal-aufsetzen/
SUMMARY:Chatten mit eigenen Daten - Ein GPT-Modell lokal aufsetzen
DESCRIPTION:In unserem Online-Workshop erfahren Sie\, wie Sie mit LangChain
  einen GPT-basierten Chatbot vollständig lokal – und damit ohne Cloud-A
 nbindung – erstellen können. Sie erhalten einen Einstieg in die technis
 chen Grundlagen der Retrieval Augmented Generation (RAG) und lernen praxis
 nahe Anwendungspotenziale für Chatbots kennen. Im praktischen Teil setzen
  Sie das Gelernte direkt um und implementieren einen Q&A-Chatbot\, der auf
  beispielhafte lokale Daten zugreift und datenschutzkonform arbeitet
ATTACH;FMTTYPE=image/jpeg:https://www.digitalzentrum-magdeburg.de/wp-conte
 nt/uploads/2025/05/Chatten-mit-eigenem-GPT-Modell.png
CATEGORIES:Künstliche Intelligenz &amp; Maschinelles Lernen
END:VEVENT
BEGIN:VTIMEZONE
TZID:Europe/Berlin
X-LIC-LOCATION:Europe/Berlin
BEGIN:DAYLIGHT
DTSTART:20250330T030000
TZOFFSETFROM:+0100
TZOFFSETTO:+0200
TZNAME:CEST
END:DAYLIGHT
END:VTIMEZONE
END:VCALENDAR