BEGIN:VCALENDAR
VERSION:2.0
PRODID:-//wp-events-plugin.com//7.2.3.1//EN
TZID:Europe/Berlin
X-WR-TIMEZONE:Europe/Berlin
BEGIN:VEVENT
UID:1057@digitalzentrum-magdeburg.de
DTSTART;TZID=Europe/Berlin:20250305T100000
DTEND;TZID=Europe/Berlin:20250305T120000
DTSTAMP:20250305T083833Z
URL:https://www.digitalzentrum-magdeburg.de/termine/datenchaos-im-unterneh
 men-mit-ki-beseitigen/
SUMMARY:Datenchaos im Unternehmen mit KI beseitigen
DESCRIPTION:Daten sind die Grundlage für eine erfolgreiche Umsetzung von K
 I. In unserem virtuellen Kurzworkshop bereiten Sie öffentlich verfügbare
  Daten auf\, um die Leistungsfähigkeit einer KI-Anwendung zu erhöhen. Al
 s Praxisbeispiel wird die automatisierte Suche nach technischen Zeichnunge
 n ähnlicher Bauteile in der Einzelfertigung vorgestellt.
ATTACH;FMTTYPE=image/jpeg:https://www.digitalzentrum-magdeburg.de/wp-conte
 nt/uploads/2025/02/Datenchaos2.png
CATEGORIES:Künstliche Intelligenz &amp; Maschinelles Lernen
END:VEVENT
BEGIN:VTIMEZONE
TZID:Europe/Berlin
X-LIC-LOCATION:Europe/Berlin
BEGIN:STANDARD
DTSTART:20241027T020000
TZOFFSETFROM:+0200
TZOFFSETTO:+0100
TZNAME:CET
END:STANDARD
END:VTIMEZONE
END:VCALENDAR