BEGIN:VCALENDAR
VERSION:2.0
PRODID:-//wp-events-plugin.com//7.2.3.1//EN
TZID:Europe/Berlin
X-WR-TIMEZONE:Europe/Berlin
BEGIN:VEVENT
UID:1133@digitalzentrum-magdeburg.de
DTSTART;TZID=Europe/Berlin:20251014T110000
DTEND;TZID=Europe/Berlin:20251014T120000
DTSTAMP:20251017T140134Z
URL:https://www.digitalzentrum-magdeburg.de/termine/datenintegration-mit-l
 ow-code/
SUMMARY:Datenintegration mit Low-Code
DESCRIPTION:Daten sind das Rückgrat moderner Unternehmensprozesse – doch
  ihr volles Potenzial bleibt oft ungenutzt. Wie können Sie interne Datens
 ilos aufbrechen und gleichzeitig von externen Datenräumen profitieren? Di
 eser Vortrag zeigt\, wie Low Code-Plattformen den Zugang zu digitalen Date
 nräumen ermöglichen und die Voraussetzungen für neue Formen der Zusamme
 narbeit schaffen. Von der Automatisierung interner Prozesse bis zur Partiz
 ipation an Branchen-Datenräumen wie Catena-X – entdecken Sie praxisnahe
  Lösungen für Ihr Unternehmen auch ohne IT-Experte zu sein.
ATTACH;FMTTYPE=image/jpeg:https://www.digitalzentrum-magdeburg.de/wp-conte
 nt/uploads/2025/07/Datenraeiume.jpg
CATEGORIES:Digitale Geschäftsmodelle
END:VEVENT
BEGIN:VTIMEZONE
TZID:Europe/Berlin
X-LIC-LOCATION:Europe/Berlin
BEGIN:DAYLIGHT
DTSTART:20250330T030000
TZOFFSETFROM:+0100
TZOFFSETTO:+0200
TZNAME:CEST
END:DAYLIGHT
END:VTIMEZONE
END:VCALENDAR