BEGIN:VCALENDAR
VERSION:2.0
PRODID:-//wp-events-plugin.com//7.2.3.1//EN
TZID:Europe/Berlin
X-WR-TIMEZONE:Europe/Berlin
BEGIN:VEVENT
UID:807@digitalzentrum-magdeburg.de
DTSTART;TZID=Europe/Berlin:20230831T150000
DTEND;TZID=Europe/Berlin:20230831T160000
DTSTAMP:20230904T081022Z
URL:https://www.digitalzentrum-magdeburg.de/termine/der-lebenszyklus-eines
 -asset-in-der-industrie-4-0-welt-architektur-und-anwendung-der-verwaltungs
 schale/
SUMMARY:Der Lebenszyklus eines Asset in der Industrie 4.0-Welt - Architektu
 r und Anwendung der Verwaltungsschale
DESCRIPTION:Mit der Einführung der Digitalisierung wurde die Möglichkeit 
 geschaffen\, Daten von verschiedenen Objekten zu verwalten und den mehrfac
 hen Zugriff aus unterschiedlichen Unternehmensbereichen zu gewährleisten.
  Die Objekte\, deren Daten digitalisiert erfasst werden\, sind meistens Ob
 jekte\, die für ein Unternehmen von Wert sind\, im Englischen auch Asset 
 genannt. Die Daten selbst können in verschiedenen Softwaretools erzeugt u
 nd weiterverarbeitet werden. Mit der Verwaltungsschale wurde zum einen ein
  Mittel geschaffen\, die anfallenden Daten entlang der Wertschöpfungskett
 e zentral zu speichern. Zum anderen ermöglicht die standardisierte Schnit
 tstelle der Verwaltungsschale die einfachere Anbindung von Assets an die S
 oftwaretools und den übergreifenden Datenaustausch zwischen unterschiedli
 chen Softwaretools. Dieser Vortrag soll eine Einführung in die Architektu
 r der Verwaltungsschale und deren Anwendungsbeispiele geben. 
ATTACH;FMTTYPE=image/jpeg:https://www.digitalzentrum-magdeburg.de/wp-conte
 nt/uploads/2023/08/VST_Der-Lebenszyklus-eines-Asset-in-der-Industrie.jpg
CATEGORIES:Nachhaltige Automation und Vernetzung
LOCATION:Denkfabrik des ifak – Institut für Automation und Kommunikation
  e.V.\, Werner-Heisenberg-Straße 1\, Magdeburg\, Sachsen-Anhalt\, 39106\,
  Deutschland
GEO:52.142336;11.657368399999996
X-APPLE-STRUCTURED-LOCATION;VALUE=URI;X-ADDRESS=Werner-Heisenberg-Straße 1
 \, Magdeburg\, Sachsen-Anhalt\, 39106\, Deutschland;X-APPLE-RADIUS=100;X-T
 ITLE=Denkfabrik des ifak – Institut für Automation und Kommunikation e.
 V.:geo:52.142336,11.657368399999996
END:VEVENT
BEGIN:VTIMEZONE
TZID:Europe/Berlin
X-LIC-LOCATION:Europe/Berlin
BEGIN:DAYLIGHT
DTSTART:20230326T030000
TZOFFSETFROM:+0100
TZOFFSETTO:+0200
TZNAME:CEST
END:DAYLIGHT
END:VTIMEZONE
END:VCALENDAR