BEGIN:VCALENDAR
VERSION:2.0
PRODID:-//wp-events-plugin.com//7.2.3.1//EN
TZID:Europe/Berlin
X-WR-TIMEZONE:Europe/Berlin
BEGIN:VEVENT
UID:1104@digitalzentrum-magdeburg.de
DTSTART;TZID=Europe/Berlin:20250923T100000
DTEND;TZID=Europe/Berlin:20250923T110000
DTSTAMP:20250923T091323Z
URL:https://www.digitalzentrum-magdeburg.de/termine/digitale-werkzeuge-fue
 r-klare-strukturen/
SUMMARY:Wissen im Kopf bringt nichts wenn´s keiner findet - Digitale Werkz
 euge für klare Strukturen
DESCRIPTION:Wissen ist Macht – und wer es schafft\, das Wissen im Unterne
 hmen klug zu nutzen\, hat langfristig die Nase vorn. Trotzdem bleibt diese
  wertvolle Ressource oft ungenutzt\, weil sie nicht richtig erfasst\, gete
 ilt oder weiterentwickelt wird. Die Folge? Wichtige Informationen gehen ve
 rloren\, Entscheidungen basieren auf Halbwissen und Innovation bleibt auf 
 der Strecke. Dabei gibt es längst smarte Tools\, um Wissen gezielt zu org
 anisieren und für alle zugänglich zu machen. In diesem Webinar zeigen wi
 r Ihnen\, wie Sie die richtigen Strukturen schaffen\, um Wissen nicht nur 
 zu sammeln\, sondern es lebendig zu halten und effektiv einzusetzen.
ATTACH;FMTTYPE=image/jpeg:https://www.digitalzentrum-magdeburg.de/wp-conte
 nt/uploads/2025/06/Wissen-im-Kopf1.png
CATEGORIES:Digitale Geschäftsmodelle
END:VEVENT
BEGIN:VTIMEZONE
TZID:Europe/Berlin
X-LIC-LOCATION:Europe/Berlin
BEGIN:DAYLIGHT
DTSTART:20250330T030000
TZOFFSETFROM:+0100
TZOFFSETTO:+0200
TZNAME:CEST
END:DAYLIGHT
END:VTIMEZONE
END:VCALENDAR