BEGIN:VCALENDAR
VERSION:2.0
PRODID:-//wp-events-plugin.com//7.2.3.1//EN
TZID:Europe/Berlin
X-WR-TIMEZONE:Europe/Berlin
BEGIN:VEVENT
UID:708@digitalzentrum-magdeburg.de
DTSTART;TZID=Europe/Berlin:20221118T133000
DTEND;TZID=Europe/Berlin:20221118T150000
DTSTAMP:20221116T123122Z
URL:https://www.digitalzentrum-magdeburg.de/termine/digitalisierungs-escap
 e-room-3/
SUMMARY:Digitalisierungs-Escape Room
DESCRIPTION:Sie spiele als Team unseren Digitalisierungs-Escape Room und l
 ösen das Rätsel um den verschwundenen Professor Mega Watt\, der möglich
 erweise einen neuen Ansatz gefunden hat\, die Energiekrise zu lösen. Aber
  Achtung für diese Herausforderung haben Sie nur 60 min Zeit\, denn nach 
 dem Betreten des Labors hat sich dieses Verriegelt und der Countdown zur S
 elbstzerstörung läuft...
ATTACH;FMTTYPE=image/jpeg:https://www.digitalzentrum-magdeburg.de/wp-conte
 nt/uploads/2021/11/Escape-Room-Digitalisierung-Header.jpg
LOCATION:VDTC des Fraunhofer-Institut für Fabrikbetrieb und -automatisieru
 ng IFF\, Joseph-von-Fraunhofer-Str. 1\, Magdeburg\, Sachsen-Anhalt\, 39106
 \, Deutschland
GEO:52.14159;11.658000000000015
X-APPLE-STRUCTURED-LOCATION;VALUE=URI;X-ADDRESS=Joseph-von-Fraunhofer-Str. 
 1\, Magdeburg\, Sachsen-Anhalt\, 39106\, Deutschland;X-APPLE-RADIUS=100;X-
 TITLE=VDTC des Fraunhofer-Institut für Fabrikbetrieb und -automatisierung
  IFF:geo:52.14159,11.658000000000015
END:VEVENT
BEGIN:VTIMEZONE
TZID:Europe/Berlin
X-LIC-LOCATION:Europe/Berlin
BEGIN:STANDARD
DTSTART:20221030T020000
TZOFFSETFROM:+0200
TZOFFSETTO:+0100
TZNAME:CET
END:STANDARD
END:VTIMEZONE
END:VCALENDAR