BEGIN:VCALENDAR
VERSION:2.0
PRODID:-//wp-events-plugin.com//7.2.3.1//EN
TZID:Europe/Berlin
X-WR-TIMEZONE:Europe/Berlin
BEGIN:VEVENT
UID:854@digitalzentrum-magdeburg.de
DTSTART;TZID=Europe/Berlin:20240229T100000
DTEND;TZID=Europe/Berlin:20240229T110000
DTSTAMP:20240229T113202Z
URL:https://www.digitalzentrum-magdeburg.de/termine/e-rechnungen-im-b2b-ab
 -2025-ff-im-kontext-von-einkauf-fibu-und-dokumentenmanagement/
SUMMARY:E-Rechnungen im Kontext von Einkauf\, FIBU und Dokumentenmanagement
DESCRIPTION:Wir zeigen Ihnen\, wie Informationssysteme als strategische Res
 source eines Unternehmens wirken. Dabei möchten wir an einem konkreten Be
 ispiel den Prozess vom Einkauf bis zur Zahlung vorstellen. Wir werfen geme
 insam einen Blick auf das Handling von E-Rechnungen gemäß dem Wachstumsc
 hancengesetz 2023/2024.
ATTACH;FMTTYPE=image/jpeg:https://www.digitalzentrum-magdeburg.de/wp-conte
 nt/uploads/2024/01/E-Rechnungen_640.png
CATEGORIES:IT-Strategien &amp; Sicherheit
END:VEVENT
BEGIN:VTIMEZONE
TZID:Europe/Berlin
X-LIC-LOCATION:Europe/Berlin
BEGIN:STANDARD
DTSTART:20231029T020000
TZOFFSETFROM:+0200
TZOFFSETTO:+0100
TZNAME:CET
END:STANDARD
END:VTIMEZONE
END:VCALENDAR