BEGIN:VCALENDAR
VERSION:2.0
PRODID:-//wp-events-plugin.com//7.2.3.1//EN
TZID:Europe/Berlin
X-WR-TIMEZONE:Europe/Berlin
BEGIN:VEVENT
UID:538@digitalzentrum-magdeburg.de
DTSTART;TZID=Europe/Berlin:20211019T100000
DTEND;TZID=Europe/Berlin:20211019T110000
DTSTAMP:20210810T073721Z
URL:https://www.digitalzentrum-magdeburg.de/termine/energiemanagement-im-u
 nternehmen-einfuehren-und-leben-3/
SUMMARY:Energiemanagement im Unternehmen einführen und leben
DESCRIPTION:WIE KANN ICH PROZESSE IN MEINEM UNTERNEHMEN ENERGIEEFFIZIENTER 
 GESTALTEN? WAS BRAUCHE ICH DAFÜR? WIE KANN ICH EIN ENERGIEMANAGEMENT ZUKU
 NFTSSICHER AUFBAUEN? WELCHE WETTBEWERBSVORTEILE KÖNNEN DARAUS ENTSTEHEN?\
 nAm 19.10.2021 dreht sich in der Zeit von 10 bis 11 Uhr alles um diese Fra
 gen. Sie erhalten eine strukturierte Einführung in die Themen Energieeffi
 zienz und Energiemanagement im Unternehmen sowie einen Überblick über vo
 rhandene Werkzeuge und -Methoden zur energetischen Bewertung von Unternehm
 ensprozessen. Anhand eines praxisnahen Beispiels lernen Sie die Aufbauschr
 itte eines Energiemanagementsystems sowie Identifizierung von Potenzialen 
 zur Energieeffizienzsteigerung.\n\n[av_toggle_container faq_markup='' init
 ial='0' mode='accordion' sort='' styling='' colors='' font_color='' backgr
 ound_color='' border_color='' colors_current='' font_color_current='' back
 ground_current='' background_color_current='' background_gradient_current_
 color1='' background_gradient_current_color2='' background_gradient_curren
 t_direction='vertical' hover_colors='' hover_background_color='' hover_fon
 t_color='' alb_description='' id='' custom_class='' av_uid='av-41jynme']\n
 [av_toggle title='WELCHE FRAGEN WERDEN WÄHREND DES ONLINE-SEMINARS BEANTW
 ORTET?' tags='' custom_id='' av_uid='av-3cec7cm']\n\n 	Was sind die Aufgab
 en eines Energiemanagementsystems\, wann ist es sinnvoll ein solches Syste
 m aufzubauen?\n 	Welche Softwaretools und Erfassungssysteme kommen für ei
 n funktionierendes Energiemanagementsystem in Frage?\n 	Welche Methoden zu
 r energetischen Modellierung von Unternehmen und deren Prozessen existiere
 n?\n 	Welche Rolle spielen die Energieleistungskennzahlen bei der Ermittlu
 ng von Effizienzpotenzialen und wie können diese kollaborativ entwickelt 
 werden?\n\n[/av_toggle]\n\n[av_toggle title='WELCHE THEORETISCHEN UND PRAK
 TISCHEN INHALTE WERDEN BEHANDELT?' tags='' custom_id='' av_uid='av-32azcuu
 ']\n\n 	Energetische Grundbegriffe\, Normen\, Richtlinien\n 	Erfassung von
  Energiedaten im Unternehmen\, Bildung von Energieleistungskennzahlen\n 	M
 ethoden der energetischen Bewertung von Unternehmensprozessen\n 	Energiema
 nagementsystem (Aufbau\, Herausforderungen\, Betrieb)\n 	Konkrete Praxisbe
 ispiele zur Einführung von Energieeffizienzmaßnahmen\n 	Demonstrator: Er
 neuerbare Energien und Lastflexibilität in der Industrie\n\n[/av_toggle]\
 n[av_toggle title='WER SOLLTE TEILNEHMEN?' tags='' custom_id='' av_uid='av
 -2ijv7x2']\n\nFührungs- und Fachkräfte\, …\n\n 	die ein Energiemanagem
 ent im Unternehmen betreiben oder einführen wollen\n 	die die Energieeffi
 zienz von Produktionsprozessen steigern wollen\n 	die keine oder geringe V
 orkenntnisse auf dem Gebiet des Energiemanagements besitzen\n\n[/av_toggle
 ]\n[av_toggle title='WAS KÖNNEN SIE ERWARTEN?' tags='' custom_id='' av_ui
 d='av-1wrgmeu']\n\nEinen Mix aus Theorie und Praxis\, der die etablierten 
 Methoden der energetischen Bewertung von Prozessen prägnant und verständ
 lich beschreibt. Über praxisnahe Beispiele erhalten die Teilnehmenden Anr
 egungen zum Einsatz von Energiemanagement im eigenen Unternehmen.\n[/av_to
 ggle]\n[av_toggle title='WAS KÖNNEN SIE NICHT ERWARTEN?' tags='' custom_i
 d='' av_uid='av-1jwodw6']\n\nEine detaillierte Analyse Ihrer Daten sowie k
 onkrete unternehmensindividuelle Empfehlungen zur Auswahl geeigneter Verfa
 hren oder Strategien für die Einführung und den Betrieb eines Energieman
 agementsystems.\n[/av_toggle]\n[av_toggle title='HINWEIS ZUR NUTZUNG VON Z
 OOM' tags='' custom_id='' av_uid='av-16qp77a']\n\nMit Ihrer Registrierung 
 und Teilnahme am virtuellen Sprechtag/virtuellen Meeting stimmen Sie der N
 utzung der Zoom-Plattform der Zoom Video Communications\, Inc. zu. Zum Umg
 ang mit personenbezogene Daten verweisen wir auf unsere Datenschutzerklär
 ung sowie die verlinkten Angaben des Anbieters. Weiterführende Informatio
 nen zu unseren gewählten Einstellungen der Zoom-Plattform\, technischen H
 inweisen und Anleitungen finden Sie auf unserer Seite zur Nutzung von Zoom
 .\n[/av_toggle]\n[/av_toggle_container]\n\n&nbsp\;\n\nDIE TEILNAHME AN DER
  VERANSTALTUNG IST KOSTENFREI. EINE ANMELDUNG IST AUFGRUND DER BEGRENZTEN 
 KAPAZITÄTEN BIS ZUM 18.10.2021 (09:00 Uhr) ZWINGEND NOTWENDIG!\n\n\nDIE Z
 OOM-ZUGANGSDATEN ERHALTEN SIE AB SOFORT IN DEN BESTÄTIGUNGS- UND ERINNERU
 NGSMAILS DER VERANSTALTUNG.\n\n[av_promobox button='no' label='Klick mich'
  link='manually\,http://' link_target='' color='theme-color' custom_bg='#f
 fffff' custom_font='#b50900' size='large' icon_select='no' icon='ue800' fo
 nt='entypo-fontello' box_color='custom' box_custom_font='#b50900' box_cust
 om_bg='#d3d1d1' box_custom_border='#b50900' admin_preview_bg='' av_uid='av
 -ueujpy']\n\n►Referent\n\nSergii Kolomiichuk // Künstliche Intelligenz 
 &amp\; Maschinelles Lernen\n\n[/av_promobox]
ATTACH;FMTTYPE=image/jpeg:https://www.digitalzentrum-magdeburg.de/wp-conte
 nt/uploads/2021/04/Teaser_Energiemanagementsystem.jpg
CATEGORIES:Künstliche Intelligenz &amp; Maschinelles Lernen
END:VEVENT
BEGIN:VTIMEZONE
TZID:Europe/Berlin
X-LIC-LOCATION:Europe/Berlin
BEGIN:DAYLIGHT
DTSTART:20210328T030000
TZOFFSETFROM:+0100
TZOFFSETTO:+0200
TZNAME:CEST
END:DAYLIGHT
END:VTIMEZONE
END:VCALENDAR