BEGIN:VCALENDAR
VERSION:2.0
PRODID:-//wp-events-plugin.com//7.2.3.1//EN
TZID:Europe/Berlin
X-WR-TIMEZONE:Europe/Berlin
BEGIN:VEVENT
UID:793@digitalzentrum-magdeburg.de
DTSTART;TZID=Europe/Berlin:20230608T150000
DTEND;TZID=Europe/Berlin:20230608T160000
DTSTAMP:20230612T100253Z
URL:https://www.digitalzentrum-magdeburg.de/termine/energiesimulation-mit-
 simba-oder-wie-lueftet-man-richtig/
SUMMARY:Energiesimulation mit SIMBA - oder wie lüftet man richtig?
DESCRIPTION:In Anbetracht des sich verändernden Energiemarktes und steigen
 der Anforderungen an den wirtschaftlichen Betrieb rückt das Thema Energie
 effizienz beim Betrieb verfahrenstechnischer Anlagen z. B. auch auf Klära
 nlagen zunehmend in den Fokus des wirtschaftlichen Handelns. Ein leistungs
 fähiges Werkzeug dafür ist die Nutzung des Werkzeugs der Simulation.
CATEGORIES:Nachhaltige Automation und Vernetzung
LOCATION:Denkfabrik des ifak – Institut für Automation und Kommunikation
  e.V.\, Werner-Heisenberg-Straße 1\, Magdeburg\, Sachsen-Anhalt\, 39106\,
  Deutschland
GEO:52.142336;11.657368399999996
X-APPLE-STRUCTURED-LOCATION;VALUE=URI;X-ADDRESS=Werner-Heisenberg-Straße 1
 \, Magdeburg\, Sachsen-Anhalt\, 39106\, Deutschland;X-APPLE-RADIUS=100;X-T
 ITLE=Denkfabrik des ifak – Institut für Automation und Kommunikation e.
 V.:geo:52.142336,11.657368399999996
END:VEVENT
BEGIN:VTIMEZONE
TZID:Europe/Berlin
X-LIC-LOCATION:Europe/Berlin
BEGIN:DAYLIGHT
DTSTART:20230326T030000
TZOFFSETFROM:+0100
TZOFFSETTO:+0200
TZNAME:CEST
END:DAYLIGHT
END:VTIMEZONE
END:VCALENDAR