BEGIN:VCALENDAR
VERSION:2.0
PRODID:-//wp-events-plugin.com//7.2.3.1//EN
TZID:Europe/Berlin
X-WR-TIMEZONE:Europe/Berlin
BEGIN:VEVENT
UID:1129@digitalzentrum-magdeburg.de
DTSTART;TZID=Europe/Berlin:20250814T130000
DTEND;TZID=Europe/Berlin:20250814T140000
DTSTAMP:20250812T065945Z
URL:https://www.digitalzentrum-magdeburg.de/termine/fuehrung-und-kommunika
 tion/
SUMMARY:Führung und Kommunikation - ein unzertrennliches Paar
DESCRIPTION:In diesem inspirierenden Vortrag lernen Sie\, warum gute Kommun
 ikation weit mehr ist als Informationsaustausch – sie ist ein Führungsi
 nstrument. Erleben Sie\, wie Haltung\, Sprache und Beziehungsgestaltung Ih
 re Führungswirksamkeit nachhaltig steigern.\n
ATTACH;FMTTYPE=image/jpeg:https://www.digitalzentrum-magdeburg.de/wp-conte
 nt/uploads/2025/07/Fuehrung-und-Kommunikation2.jpg
CATEGORIES:Akzeptanz &amp; Organisation
END:VEVENT
BEGIN:VTIMEZONE
TZID:Europe/Berlin
X-LIC-LOCATION:Europe/Berlin
BEGIN:DAYLIGHT
DTSTART:20250330T030000
TZOFFSETFROM:+0100
TZOFFSETTO:+0200
TZNAME:CEST
END:DAYLIGHT
END:VTIMEZONE
END:VCALENDAR