BEGIN:VCALENDAR
VERSION:2.0
PRODID:-//wp-events-plugin.com//7.2.3.1//EN
TZID:Europe/Berlin
X-WR-TIMEZONE:Europe/Berlin
BEGIN:VEVENT
UID:891@digitalzentrum-magdeburg.de
DTSTART;TZID=Europe/Berlin:20240515T090000
DTEND;TZID=Europe/Berlin:20240515T150000
DTSTAMP:20240524T133808Z
URL:https://www.digitalzentrum-magdeburg.de/termine/geschaeftsprozesse-im-
 handwerk-erfolgreich-digitalisieren-ansaetze-und-werkzeuge/
SUMMARY:Geschäftsprozesse im Handwerk erfolgreich digitalisieren - Ansätz
 e und Werkzeuge
DESCRIPTION:Tauchen Sie ein in die Welt der Prozessdigitalisierung im Handw
 erk! Entdecken Sie\, wie Sie die Abläufe in Ihrem Handwerksbetrieb mühel
 os visualisieren können! Unser Workshop zur Prozessdigitalisierung bietet
  Ihnen nicht nur Einblicke in verschiedene digitale Tools zur Darstellung 
 von Geschäftsprozessen\, sondern zeigt Ihnen auch\, wie Sie diese speziel
 l für Ihr Handwerk anpassen können. Erfahren Sie\, wie Sie komplexe Arbe
 itsabläufe übersichtlich gestalten können\, um Effizienz und Qualität 
 von Baustellen-\, Werkstatt- und Büroarbeiten zu steigern. Zusätzlich ha
 ben Sie Gelegenheit zum Erfahrungsaustausch. Nehmen Sie wertvolle Impulse 
 für Ihre eigenen Prozesse mit. Seien Sie dabei und machen Sie Ihren Handw
 erksbetrieb fit für die Zukunft der digitalen Arbeitswelt!
ATTACH;FMTTYPE=image/jpeg:https://www.digitalzentrum-magdeburg.de/wp-conte
 nt/uploads/2024/03/Handwerk_640.png
CATEGORIES:Digitale Geschäftsmodelle,Handwerksspezifischer Transfer
LOCATION:Berufsbildungszentrum der Handwerkskammer Magdeburg\, Harzburger S
 traße 13 \, Magdeburg\, 39118\, Deutschland
GEO:52.098243;11.599659
X-APPLE-STRUCTURED-LOCATION;VALUE=URI;X-ADDRESS=Harzburger Straße 13 \, Ma
 gdeburg\, 39118\, Deutschland;X-APPLE-RADIUS=100;X-TITLE=Berufsbildungszen
 trum der Handwerkskammer Magdeburg:geo:52.098243,11.599659
END:VEVENT
BEGIN:VTIMEZONE
TZID:Europe/Berlin
X-LIC-LOCATION:Europe/Berlin
BEGIN:DAYLIGHT
DTSTART:20240331T030000
TZOFFSETFROM:+0100
TZOFFSETTO:+0200
TZNAME:CEST
END:DAYLIGHT
END:VTIMEZONE
END:VCALENDAR