BEGIN:VCALENDAR
VERSION:2.0
PRODID:-//wp-events-plugin.com//7.2.3.1//EN
TZID:Europe/Berlin
X-WR-TIMEZONE:Europe/Berlin
BEGIN:VEVENT
UID:1110@digitalzentrum-magdeburg.de
DTSTART;TZID=Europe/Berlin:20250902T100000
DTEND;TZID=Europe/Berlin:20250902T110000
DTSTAMP:20250901T193205Z
URL:https://www.digitalzentrum-magdeburg.de/termine/grundlagen-des-wissens
 managements-2/
SUMMARY:Grundlagen des Wissensmanagements
DESCRIPTION:In der heutigen dynamischen Welt ist der systematische Umgang m
 it Wissen zu einem entscheidenden Wettbewerbsvorteil geworden. Doch wie k
 önnen Unternehmen diese Ressource optimal nutzen\, um Innovation und Wett
 bewerbsfähigkeit zu fördern? Der Vortrag zeigt auf\, welche Strategien u
 nd konkrete Tools helfen\, um Wissensmanagement im Unternehmen erfolgreich
  umzusetzen.
ATTACH;FMTTYPE=image/jpeg:https://www.digitalzentrum-magdeburg.de/wp-conte
 nt/uploads/2025/06/Grundlagen-Wissensmanagement2.png
CATEGORIES:Digitale Geschäftsmodelle
END:VEVENT
BEGIN:VTIMEZONE
TZID:Europe/Berlin
X-LIC-LOCATION:Europe/Berlin
BEGIN:DAYLIGHT
DTSTART:20250330T030000
TZOFFSETFROM:+0100
TZOFFSETTO:+0200
TZNAME:CEST
END:DAYLIGHT
END:VTIMEZONE
END:VCALENDAR