BEGIN:VCALENDAR
VERSION:2.0
PRODID:-//wp-events-plugin.com//7.2.3.1//EN
TZID:Europe/Berlin
X-WR-TIMEZONE:Europe/Berlin
BEGIN:VEVENT
UID:1117@digitalzentrum-magdeburg.de
DTSTART;TZID=Europe/Berlin:20250825T100000
DTEND;TZID=Europe/Berlin:20250825T150000
DTSTAMP:20250825T142110Z
URL:https://www.digitalzentrum-magdeburg.de/termine/grundlagen-social-medi
 a-7/
SUMMARY:Online & unSichtbar? - Workshop: Grundlagen Social Media und erste 
 Schritte zu einer Strategie
DESCRIPTION:Soziale Medien stellen auch für kleine und mittlere Unternehme
 n eine sehr gute Möglichkeit dar\, um sichtbar zu werden. Sichtbar für K
 undschaft oder künftige Mitarbeitende. Wo und wie Ihr Unternehmen sichtba
 r werden kann\, erfahren Sie in unserem Workshop. Erhalten Sie einen erste
 n Einblick und einen Fahrplan für Ihren Weg zu Social Media Präsenz.\n
ATTACH;FMTTYPE=image/jpeg:https://www.digitalzentrum-magdeburg.de/wp-conte
 nt/uploads/2024/11/Grundlagen_Social_Media_640px.png
CATEGORIES:Digitale Geschäftsmodelle
LOCATION:Elbfabrik des Fraunhofer IFF\, Joseph-von-Fraunhofer-Straße 1\, M
 agdeburg \, Deutschland
GEO:52.141505;11.65717
X-APPLE-STRUCTURED-LOCATION;VALUE=URI;X-ADDRESS=Joseph-von-Fraunhofer-Stra
 ße 1\, Magdeburg \, Deutschland;X-APPLE-RADIUS=100;X-TITLE=Elbfabrik des 
 Fraunhofer IFF:geo:52.141505,11.65717
END:VEVENT
BEGIN:VTIMEZONE
TZID:Europe/Berlin
X-LIC-LOCATION:Europe/Berlin
BEGIN:DAYLIGHT
DTSTART:20250330T030000
TZOFFSETFROM:+0100
TZOFFSETTO:+0200
TZNAME:CEST
END:DAYLIGHT
END:VTIMEZONE
END:VCALENDAR