BEGIN:VCALENDAR
VERSION:2.0
PRODID:-//wp-events-plugin.com//7.2.3.1//EN
TZID:Europe/Berlin
X-WR-TIMEZONE:Europe/Berlin
BEGIN:VEVENT
UID:1141@digitalzentrum-magdeburg.de
DTSTART;TZID=Europe/Berlin:20251006T100000
DTEND;TZID=Europe/Berlin:20251006T120000
DTSTAMP:20251006T070508Z
URL:https://www.digitalzentrum-magdeburg.de/termine/ki-gestuetzte-chatbots
 -extraktion-und-strukturierung/
SUMMARY:Daten fit machen für KI-gestützte Chatbots - Extraktion und Struk
 turierung leicht gemacht
DESCRIPTION:„Meine Fragen können nur Menschen beantworten.“ Erfolgreic
 he Chatbot-Projekte zeigen\, dass auch KI fundierte Antworten liefern kann
 \, wenn die Datenbasis stimmt. Doch wie lassen sich interne Dokumente wie 
 Handbücher und Richtlinien für einen faktenbasierten Chatbot mit Retriev
 al Augmented Generation (RAG) nutzbar machen? In diesem Online-Workshop le
 rnen Sie\, wie Sie mit einem Low-/ No-Code-Tool eigene Datenquellen erschl
 ießen\, strukturieren und für den Einsatz in einem KI-gestützten Chatbo
 t aufbereiten können.
ATTACH;FMTTYPE=image/jpeg:https://www.digitalzentrum-magdeburg.de/wp-conte
 nt/uploads/2025/08/Dateien_Chatbot2.png
CATEGORIES:Künstliche Intelligenz &amp; Maschinelles Lernen
END:VEVENT
BEGIN:VTIMEZONE
TZID:Europe/Berlin
X-LIC-LOCATION:Europe/Berlin
BEGIN:DAYLIGHT
DTSTART:20250330T030000
TZOFFSETFROM:+0100
TZOFFSETTO:+0200
TZNAME:CEST
END:DAYLIGHT
END:VTIMEZONE
END:VCALENDAR