BEGIN:VCALENDAR
VERSION:2.0
PRODID:-//wp-events-plugin.com//7.2.3.1//EN
TZID:Europe/Berlin
X-WR-TIMEZONE:Europe/Berlin
BEGIN:VEVENT
UID:1113@digitalzentrum-magdeburg.de
DTSTART;TZID=Europe/Berlin:20251021T110000
DTEND;TZID=Europe/Berlin:20251021T120000
DTSTAMP:20251022T105608Z
URL:https://www.digitalzentrum-magdeburg.de/termine/ki-gestuetzte-vorhersa
 gen-low-no-code-loesungen-fuer-daten-im-zeitverlauf-3/
SUMMARY:KI-gestützte Vorhersagen: Low-/No-Code-Lösungen für Daten im Zei
 tverlauf
DESCRIPTION:Im praxisnahen Online-Vortrag lernen Sie\, wie Sie mit grafisch
 er Low-/No-Code-Software wie KNIME Zeitreihendaten verarbeiten können. Ze
 itreihen sind Daten\, die zeitlich geordnet erfasst werden\, wie beispiels
 weise sekündlich erfasste Maschinenparameterwerte. Wir zeigen Ihnen\, wie
  Sie Zeitreihen visualisieren und besser verstehen können. Mithilfe eines
  digitalen Assistenten kombinieren wir geeignete Bausteine in KNIME zur Vo
 rhersage von Daten – und das ganz ohne Programmierkenntnisse. Als Praxis
 beispiel dient die Prognose des Anrufvolumens im Kundenservice.
ATTACH;FMTTYPE=image/jpeg:https://www.digitalzentrum-magdeburg.de/wp-conte
 nt/uploads/2023/09/VST_Praktische-Einfuehrung-in-die-Zeitreihenanalyse-mit
 -KNIME.jpg
CATEGORIES:Künstliche Intelligenz &amp; Maschinelles Lernen
END:VEVENT
BEGIN:VTIMEZONE
TZID:Europe/Berlin
X-LIC-LOCATION:Europe/Berlin
BEGIN:DAYLIGHT
DTSTART:20250330T030000
TZOFFSETFROM:+0100
TZOFFSETTO:+0200
TZNAME:CEST
END:DAYLIGHT
END:VTIMEZONE
END:VCALENDAR