BEGIN:VCALENDAR
VERSION:2.0
PRODID:-//wp-events-plugin.com//7.2.3.1//EN
TZID:Europe/Berlin
X-WR-TIMEZONE:Europe/Berlin
BEGIN:VEVENT
UID:1098@digitalzentrum-magdeburg.de
DTSTART;TZID=Europe/Berlin:20250619T100000
DTEND;TZID=Europe/Berlin:20250619T120000
DTSTAMP:20250629T205150Z
URL:https://www.digitalzentrum-magdeburg.de/termine/ki-im-praxiseinsatz-gu
 tscheinvergabe-mit-low-no-code/
SUMMARY:KI im Praxiseinsatz - Gutscheinvergabe mit Low-/ No-Code
DESCRIPTION:Im kostenfreien und praxisnahen Online-Workshop entwickeln Sie 
 auf einer Low-/No-Code-Benutzeroberfläche einen Workflow zur automatische
 n Zuordnung von Gutscheinen. Mithilfe einer Tabelle künstlicher Kunden- u
 nd Verkaufsdaten wird ein Klassifikationsmodell trainiert\, das eine zielg
 erichtete Gutscheinvergabe ermöglicht. Die Umsetzung erfolgt mit der Low-
 Code-Plattform KNIME und erfordert keine Programmierkenntnisse
ATTACH;FMTTYPE=image/jpeg:https://www.digitalzentrum-magdeburg.de/wp-conte
 nt/uploads/2023/09/VST_PRAKTISCHE-EINFUeHRUNG-IN-METHODEN-DES-MASCHINELLEN
 -LERNENS-AM-BEISPIEL-PYTHON.jpg
CATEGORIES:Künstliche Intelligenz &amp; Maschinelles Lernen
END:VEVENT
BEGIN:VTIMEZONE
TZID:Europe/Berlin
X-LIC-LOCATION:Europe/Berlin
BEGIN:DAYLIGHT
DTSTART:20250330T030000
TZOFFSETFROM:+0100
TZOFFSETTO:+0200
TZNAME:CEST
END:DAYLIGHT
END:VTIMEZONE
END:VCALENDAR