BEGIN:VCALENDAR
VERSION:2.0
PRODID:-//wp-events-plugin.com//7.2.3.1//EN
TZID:Europe/Berlin
X-WR-TIMEZONE:Europe/Berlin
BEGIN:VEVENT
UID:806@digitalzentrum-magdeburg.de
DTSTART;TZID=Europe/Berlin:20231205T110000
DTEND;TZID=Europe/Berlin:20231205T120000
DTSTAMP:20231102T100159Z
URL:https://www.digitalzentrum-magdeburg.de/termine/ki-in-der-cloud/
SUMMARY:KI in der Cloud
DESCRIPTION:Am 05.12.2023 erfahren Sie von 11:00 Uhr bis 12:00 Uhr\, welche
  Cloud-Servicemodelle gibt es und welche davon geeignet für KI-Softwaremo
 dule sind. Darüber hinaus werden Umsetzungs -und Auswahlstrategien dargel
 egt\, wie die KI-Softwaremodule bestmöglich in der Cloud gehostet werden 
 können. Anhand eines Beispiels werden die theoretischen Informationen pra
 ktiziert.
ATTACH;FMTTYPE=image/jpeg:https://www.digitalzentrum-magdeburg.de/wp-conte
 nt/uploads/2023/10/VST_KI_in_der_cloud.jpg
CATEGORIES:Künstliche Intelligenz &amp; Maschinelles Lernen
END:VEVENT
BEGIN:VTIMEZONE
TZID:Europe/Berlin
X-LIC-LOCATION:Europe/Berlin
BEGIN:STANDARD
DTSTART:20231029T020000
TZOFFSETFROM:+0200
TZOFFSETTO:+0100
TZNAME:CET
END:STANDARD
END:VTIMEZONE
END:VCALENDAR