BEGIN:VCALENDAR
VERSION:2.0
PRODID:-//wp-events-plugin.com//7.2.3.1//EN
TZID:Europe/Berlin
X-WR-TIMEZONE:Europe/Berlin
BEGIN:VEVENT
UID:1152@digitalzentrum-magdeburg.de
DTSTART;TZID=Europe/Berlin:20251112T090000
DTEND;TZID=Europe/Berlin:20251112T100000
DTSTAMP:20251021T125816Z
URL:https://www.digitalzentrum-magdeburg.de/termine/ki-verordnung-und-date
 nschutz-worauf-muessen-sie-achten/
SUMMARY:KI-Verordnung und Datenschutz - Worauf müssen Sie achten
DESCRIPTION:Künstliche Intelligenz bietet uns eine Vielzahl an Anwendungsm
 öglichkeiten. Um diese im beruflichen Alltag richtig zu nutzen\, ohne dab
 ei die Rechte anderer zu verletzen\, möchten wir Ihnen in diesem Vortrag 
 einen Überblick über das Thema KI und Recht geben. Wir geben einen praxi
 snahen Überblick über die gesetzlichen Anforderungen der KI-Verordnung. 
 Wir ordnen ein\, was KI überhaupt im Sinne der Verordnung meint\, definie
 ren Arten und Anwendungsbereiche von KI. Wir sprechen über KI-Kompetenzen
  und ziehen eine Verbindung zum Datenschutz.\n
ATTACH;FMTTYPE=image/jpeg:https://www.digitalzentrum-magdeburg.de/wp-conte
 nt/uploads/2025/10/KI-Datenschutz2.png
CATEGORIES:Künstliche Intelligenz &amp; Maschinelles Lernen
END:VEVENT
BEGIN:VTIMEZONE
TZID:Europe/Berlin
X-LIC-LOCATION:Europe/Berlin
BEGIN:STANDARD
DTSTART:20251026T020000
TZOFFSETFROM:+0200
TZOFFSETTO:+0100
TZNAME:CET
END:STANDARD
END:VTIMEZONE
END:VCALENDAR