BEGIN:VCALENDAR
VERSION:2.0
PRODID:-//wp-events-plugin.com//7.2.3.1//EN
TZID:Europe/Berlin
X-WR-TIMEZONE:Europe/Berlin
BEGIN:VEVENT
UID:1077@digitalzentrum-magdeburg.de
DTSTART;TZID=Europe/Berlin:20250320T160000
DTEND;TZID=Europe/Berlin:20250320T170000
DTSTAMP:20250321T125228Z
URL:https://www.digitalzentrum-magdeburg.de/termine/kontaktlose-ladetechno
 logie-elektromagnetischen-vertraeglichkeit/
SUMMARY:Kontaktlose Ladetechnologie im Spannungsfeld der Elektromagnetische
 n Verträglichkeit
DESCRIPTION:In Ergänzung zum Vortrag “Wer stört denn hier?“\, der ins
 besondere kleinen Unternehmen einen Einstieg in die Thematik der elektroma
 gnetischen Verträglichkeit (EMV) gibt\, wird ein 11 kW induktives Energie
 übertragungssystem für Elektrofahrzeuge und die Herausforderungen in Bez
 ug zur Elektromagnetischen Verträglichkeit praktisch präsentiert.
ATTACH;FMTTYPE=image/jpeg:https://www.digitalzentrum-magdeburg.de/wp-conte
 nt/uploads/2025/03/Digitalisierung_zum_Anfassen2.png
CATEGORIES:Nachhaltige Automation und Vernetzung
END:VEVENT
BEGIN:VTIMEZONE
TZID:Europe/Berlin
X-LIC-LOCATION:Europe/Berlin
BEGIN:STANDARD
DTSTART:20241027T020000
TZOFFSETFROM:+0200
TZOFFSETTO:+0100
TZNAME:CET
END:STANDARD
END:VTIMEZONE
END:VCALENDAR