BEGIN:VCALENDAR
VERSION:2.0
PRODID:-//wp-events-plugin.com//7.2.3.1//EN
TZID:Europe/Berlin
X-WR-TIMEZONE:Europe/Berlin
BEGIN:VEVENT
UID:784@digitalzentrum-magdeburg.de
DTSTART;TZID=Europe/Berlin:20230420T150000
DTEND;TZID=Europe/Berlin:20230420T160000
DTSTAMP:20230421T090234Z
URL:https://www.digitalzentrum-magdeburg.de/termine/kuenstliche-intelligen
 z-am-ifak/
SUMMARY:Künstliche Intelligenz am ifak - Erfahrungen aus der Praxis am Bei
 spiel von Natural Language Processing
DESCRIPTION:Künstliche Intelligenz ist in aller Munde\, weil sie erstaunli
 che Ergebnisse liefern kann wie z.B. das Verstehen von Sprache\, das Erken
 nen von Objekten in Bildern oder sogar das Erzeugen von Texten. In diesem 
 Vortrag werden die Konzepte von KI\, genauer gesagt des maschinellen Lerne
 ns\, erläutert. Diese werden an einem Anwendungsbeispiel aus dem Bereich 
 des Natural Language Processing (NLP) veranschaulicht\, das sich mit dem V
 erstehen und Verarbeiten von natürlichsprachlichen Texten befasst. Der Vo
 rtrag wird mit einer Live-Demo abgeschlossen\, in der das Anwendungsbeispi
 el mit Hilfe der PyTorch-Bibliothek Schritt für Schritt nachvollzogen wir
 d.
ATTACH;FMTTYPE=image/jpeg:https://www.digitalzentrum-magdeburg.de/wp-conte
 nt/uploads/2023/03/KI640.png
CATEGORIES:Digitale Geschäftsmodelle,Künstliche Intelligenz &amp;
 Maschinelles Lernen
LOCATION:Denkfabrik des ifak – Institut für Automation und Kommunikation
  e.V.\, Werner-Heisenberg-Straße 1\, Magdeburg\, Sachsen-Anhalt\, 39106\,
  Deutschland
GEO:52.142336;11.657368399999996
X-APPLE-STRUCTURED-LOCATION;VALUE=URI;X-ADDRESS=Werner-Heisenberg-Straße 1
 \, Magdeburg\, Sachsen-Anhalt\, 39106\, Deutschland;X-APPLE-RADIUS=100;X-T
 ITLE=Denkfabrik des ifak – Institut für Automation und Kommunikation e.
 V.:geo:52.142336,11.657368399999996
END:VEVENT
BEGIN:VTIMEZONE
TZID:Europe/Berlin
X-LIC-LOCATION:Europe/Berlin
BEGIN:DAYLIGHT
DTSTART:20230326T030000
TZOFFSETFROM:+0100
TZOFFSETTO:+0200
TZNAME:CEST
END:DAYLIGHT
END:VTIMEZONE
END:VCALENDAR