BEGIN:VCALENDAR
VERSION:2.0
PRODID:-//wp-events-plugin.com//7.2.3.1//EN
TZID:Europe/Berlin
X-WR-TIMEZONE:Europe/Berlin
BEGIN:VEVENT
UID:1153@digitalzentrum-magdeburg.de
DTSTART;TZID=Europe/Berlin:20251126T090000
DTEND;TZID=Europe/Berlin:20251126T100000
DTSTAMP:20251021T092420Z
URL:https://www.digitalzentrum-magdeburg.de/termine/kuenstliche-intelligen
 z-im-tourismus/
SUMMARY:Künstliche Intelligenz im Tourismus
DESCRIPTION:In den letzten Jahren haben sich KI-Tools bemerkenswert weitere
 ntwickelt. Besonders am Bildschirm-Arbeitsplatz finden sich viele Erleicht
 erungen. Welche Tools für welche Aufgaben im Tourismus und im Büro-Allta
 g nützlich sind\, beschreiben wir in diesem Vortrag.
ATTACH;FMTTYPE=image/jpeg:https://www.digitalzentrum-magdeburg.de/wp-conte
 nt/uploads/2025/10/KI_Bueroalltag.png
CATEGORIES:Künstliche Intelligenz &amp; Maschinelles Lernen
END:VEVENT
BEGIN:VTIMEZONE
TZID:Europe/Berlin
X-LIC-LOCATION:Europe/Berlin
BEGIN:STANDARD
DTSTART:20251026T020000
TZOFFSETFROM:+0200
TZOFFSETTO:+0100
TZNAME:CET
END:STANDARD
END:VTIMEZONE
END:VCALENDAR