BEGIN:VCALENDAR
VERSION:2.0
PRODID:-//wp-events-plugin.com//7.2.3.1//EN
TZID:Europe/Berlin
X-WR-TIMEZONE:Europe/Berlin
BEGIN:VEVENT
UID:1145@digitalzentrum-magdeburg.de
DTSTART;TZID=Europe/Berlin:20250922T130000
DTEND;TZID=Europe/Berlin:20250922T143000
DTSTAMP:20250901T113726Z
URL:https://www.digitalzentrum-magdeburg.de/termine/lets-talk-about-foerde
 rung-von-digitalisierungsprojekten/
SUMMARY:Let's talk about - Förderung von Digitalisierungsprojekten
DESCRIPTION:Sie haben größere Digitalisierungsvorhaben geplant\, wissen a
 ber nicht\, wie Sie diese finanzieren sollen? Da haben wir gute Nachrichte
 n: Das Förderprogramm Sachsen-Anhalt DIGITAL INNOVATION geht in die näch
 ste Runde!
ATTACH;FMTTYPE=image/jpeg:https://www.digitalzentrum-magdeburg.de/wp-conte
 nt/uploads/2023/01/Recruting640.png
CATEGORIES:Digitale Geschäftsmodelle
LOCATION:IHK Magdeburg\, Alter Markt 8\, Magdeburg \, 39104\, Deutschland
X-APPLE-STRUCTURED-LOCATION;VALUE=URI;X-ADDRESS=Alter Markt 8\, Magdeburg \
 , 39104\, Deutschland;X-APPLE-RADIUS=100;X-TITLE=IHK Magdeburg:geo:0,0
END:VEVENT
BEGIN:VTIMEZONE
TZID:Europe/Berlin
X-LIC-LOCATION:Europe/Berlin
BEGIN:DAYLIGHT
DTSTART:20250330T030000
TZOFFSETFROM:+0100
TZOFFSETTO:+0200
TZNAME:CEST
END:DAYLIGHT
END:VTIMEZONE
END:VCALENDAR