BEGIN:VCALENDAR
VERSION:2.0
PRODID:-//wp-events-plugin.com//7.2.3.1//EN
TZID:Europe/Berlin
X-WR-TIMEZONE:Europe/Berlin
BEGIN:VEVENT
UID:1140@digitalzentrum-magdeburg.de
DTSTART;TZID=Europe/Berlin:20251028T100000
DTEND;TZID=Europe/Berlin:20251028T120000
DTSTAMP:20251024T201820Z
URL:https://www.digitalzentrum-magdeburg.de/termine/maschinendashboard-mit
 tels-grafischer-programmierelemente/
SUMMARY:Von Rohdaten zum Maschinendashboard mittels grafischer Programmiere
 lemente
DESCRIPTION:Sie möchten selbst Anwendungen für Ihre Fertigung programmier
 en. Sie sind aber kein Softwareentwickler\, dann sind Sie hier genau richt
 ig. Mittels dem Open Source Low Code Tool Node-RED sind vielfältig Anwend
 ungen für die Fertigung realsierbar. Hierzu zählen Anwendungen zur Syste
 mvernetzung\, zu Retrofit\, zu Assistenzsysteme oder bspw. zur Auftragsver
 folgung umsetzbar\, siehe STFI-Modellfabrik (Link-Icon rechts oben). In di
 esem Workshop erfahren Sie wie man mittels grafische Programmierelemente g
 anze Anwendungen entwerfen kann.
ATTACH;FMTTYPE=image/jpeg:https://www.digitalzentrum-magdeburg.de/wp-conte
 nt/uploads/2025/08/LCNC_Maschinendaten1.png
CATEGORIES:Digitale Geschäftsmodelle
END:VEVENT
BEGIN:VTIMEZONE
TZID:Europe/Berlin
X-LIC-LOCATION:Europe/Berlin
BEGIN:STANDARD
DTSTART:20251026T020000
TZOFFSETFROM:+0200
TZOFFSETTO:+0100
TZNAME:CET
END:STANDARD
END:VTIMEZONE
END:VCALENDAR