BEGIN:VCALENDAR
VERSION:2.0
PRODID:-//wp-events-plugin.com//7.2.3.1//EN
TZID:Europe/Berlin
X-WR-TIMEZONE:Europe/Berlin
BEGIN:VEVENT
UID:1102@digitalzentrum-magdeburg.de
DTSTART;TZID=Europe/Berlin:20250910T100000
DTEND;TZID=Europe/Berlin:20250910T110000
DTSTAMP:20250910T090845Z
URL:https://www.digitalzentrum-magdeburg.de/termine/methoden-und-technolog
 ien-erfahrungstransfer/
SUMMARY:Von alten Hasen lernen - Methoden und Technologien für den Erfahru
 ngstransfer
DESCRIPTION:Erfahrungswissen ist für Unternehmen von zentraler Bedeutung u
 nd wird zunehmend zum Wettbewerbsvorteil: Es ist die Grundlage für effekt
 ive Problemlösungsstrategien. Erfahrene Fachkräfte verfügen über ein t
 iefes Verständnis für komplexe Systeme und können auf ein breites Spekt
 rum an bewährten Lösungsansätzen zurückgreifen. Diese „alten Hasen
 “ sind oft in der Lage\, ihre Maschinen intuitiv zu verstehen\, ohne sic
 h dessen bewusst zu sein. In Zeiten des Fachkräftemangels\, wo das Einarb
 eiten neuer Mitarbeitender im Tandem nicht mehr gelebte Praxis ist\, und w
 o Arbeitsaufgaben immer komplexer werden\, wird es erforderlich\, dieses w
 ertvolle Erfahrungswissen systematisch zu erfassen und weiterzugeben. Wir 
 stellen Ihnen Methoden und Technologien für einen effizienten Wissenstran
 sfer vor. Erfahren Sie\, wie Sie das Know-how Ihrer „alten Hasen“ iden
 tifizieren\, erfassen und effizient nutzen können.
ATTACH;FMTTYPE=image/jpeg:https://www.digitalzentrum-magdeburg.de/wp-conte
 nt/uploads/2025/06/Alte-Hasen2.png
CATEGORIES:Digitale Geschäftsmodelle
END:VEVENT
BEGIN:VTIMEZONE
TZID:Europe/Berlin
X-LIC-LOCATION:Europe/Berlin
BEGIN:DAYLIGHT
DTSTART:20250330T030000
TZOFFSETFROM:+0100
TZOFFSETTO:+0200
TZNAME:CEST
END:DAYLIGHT
END:VTIMEZONE
END:VCALENDAR