BEGIN:VCALENDAR
VERSION:2.0
PRODID:-//wp-events-plugin.com//7.2.3.1//EN
TZID:Europe/Berlin
X-WR-TIMEZONE:Europe/Berlin
BEGIN:VEVENT
UID:581@digitalzentrum-magdeburg.de
DTSTART;TZID=Europe/Berlin:20220202T100000
DTEND;TZID=Europe/Berlin:20220202T110000
DTSTAMP:20220104T115314Z
URL:https://www.digitalzentrum-magdeburg.de/termine/mit-kuenstlicher-intel
 ligenz-unter-die-haut-schauen-objekterkennung-durch-hyperspektralanalyse/
SUMMARY:Mit Künstlicher Intelligenz unter die Haut schauen – Objekterken
 nung durch Hyperspektralanalyse
DESCRIPTION:In diesem Vortrag zeigt Ihnen der KI-Trainer wie mit Hilfe von 
 Spektralinformationen\, aufgenommen mit mehreren LED-Beleuchtungen und Sen
 soren\, aussagekräftige Daten gewonnen können. Anschließend wird erklä
 rt\, wie diese Daten mit Hilfe von Künstlicher Intelligenz zur Klassifika
 tion von verschiedenen Stoffen genutzt werden. Anhang eines Demonstrations
 beispiels (Erkennung von gleich lackierten Autoteilen) erfolgt die Veransc
 haulichung der dargestellten Methode.
ATTACH;FMTTYPE=image/jpeg:https://www.digitalzentrum-magdeburg.de/wp-conte
 nt/uploads/2021/10/Header-Unter-die-Haut-schauen.jpg
CATEGORIES:Künstliche Intelligenz &amp; Maschinelles Lernen
END:VEVENT
BEGIN:VTIMEZONE
TZID:Europe/Berlin
X-LIC-LOCATION:Europe/Berlin
BEGIN:STANDARD
DTSTART:20211031T020000
TZOFFSETFROM:+0200
TZOFFSETTO:+0100
TZNAME:CET
END:STANDARD
END:VTIMEZONE
END:VCALENDAR