BEGIN:VCALENDAR
VERSION:2.0
PRODID:-//wp-events-plugin.com//7.2.3.1//EN
TZID:Europe/Berlin
X-WR-TIMEZONE:Europe/Berlin
BEGIN:VEVENT
UID:546@digitalzentrum-magdeburg.de
DTSTART;TZID=Europe/Berlin:20210923T120000
DTEND;TZID=Europe/Berlin:20210923T170000
DTSTAMP:20210914T121947Z
URL:https://www.digitalzentrum-magdeburg.de/termine/mittelstandsforum-2021
 /
SUMMARY:11. Mittelstandsforum 2021
DESCRIPTION:[av_headline_rotator before_rotating='' after_rotating='' margi
 n='' margin_sync='true' align='center' custom_title='#b02b2c' size='' av-m
 edium-font-size-title='' av-small-font-size-title='' av-mini-font-size-tit
 le='' tag='h2' interval='5' animation='reverse' alb_description='' id='' c
 ustom_class='' av_uid='av-ktjzv9og' admin_preview_bg='']\n[av_rotator_item
  title='11. Mittelstandsforum 2021' custom_title='' link='' linktarget='' 
 av_uid='av-1n9jefl']\n[av_rotator_item title='KI - Fluch oder Segen im 21.
  Jh.?' custom_title='' link='' linktarget='' av_uid='av-16eqeoh']\n[/av_he
 adline_rotator]\n\n[av_textblock size='' av-medium-font-size='' av-small-f
 ont-size='' av-mini-font-size='' font_color='' color='' id='' custom_class
 ='' av_uid='av-ktjzz5gz' admin_preview_bg='']\nWir sind bei der gemeinsame
 n Mittelstandsforum 2021 des Bundesverbandes mittelständische Wirtschaft 
 BVMW\, des Fraunhofer-Instituts für Fabrikbetrieb und -automatisierung IF
 F\, des FASA e.V. Zweckverband zur Förderung des Maschinen- und Anlagenba
 us Sachsen-Anhalt\, sowie der Wirtschaftsförderung der Stadt Magdeburg un
 d des VDI Landesverbandes Sachsen-Anhalt e.V. dabei!\n\nMit dem Mittelstan
 dsforum 2021 wird das Blickfeld der Digitalisierung erweitert und der heut
 ige Einfluss und Nutzen der Künstlichen Intelligenz im unternehmerischen 
 sowie privaten Alltag rückt in den Mittelpunkt. Gemeinsam mit Ihnen möch
 ten wir zum Thema "KI - Fluch oder Segen im 21. Jh.?" in die Diskussion tr
 eten.\n\nBesuchen Sie uns gern vor Ort an unserem Messestand und treffen S
 ie unseren Serviceroboter Pepper.\n\n[av_button label='Alle Informationen 
 zur Anmeldung finden Sie hier.' icon_select='no' icon='ue800' font='entypo
 -fontello' link='manually\,https://www.bvmw.de/event/14622/save-the-date-1
 1-mittelstandsforum-ki-fluch-oder-segen-im-21-jahrhundert/' link_target='_
 blank' size='large' position='center' label_display='' title_attr='' color
 _options='' color='theme-color' custom_bg='#444444' custom_font='#ffffff' 
 btn_color_bg='theme-color' btn_custom_bg='#444444' btn_color_bg_hover='the
 me-color-highlight' btn_custom_bg_hover='#444444' btn_color_font='theme-co
 lor' btn_custom_font='#ffffff' id='' custom_class='' av_uid='av-iuoklt' ad
 min_preview_bg='']\n[/av_textblock]\n\n[av_textblock size='' av-medium-fon
 t-size='' av-small-font-size='' av-mini-font-size='' font_color='' color='
 ' id='' custom_class='' av_uid='av-ktjzz5gz' admin_preview_bg='']\n[pdf-em
 bedder url="https://www.digitalzentrum-magdeburg.de/wp-content/uploads/202
 1/09/BVMW-Einladungskarte.pdf" title="BVMW Einladungskarte"]\n[/av_textblo
 ck]\n\n[av_one_full first min_height='' vertical_alignment='' space='' row
 _boxshadow='' row_boxshadow_color='' row_boxshadow_width='10' custom_margi
 n='' margin='0px' mobile_breaking='' border='' border_color='' radius='0px
 ' padding='0px' column_boxshadow='' column_boxshadow_color='' column_boxsh
 adow_width='10' background='bg_color' background_color='' background_gradi
 ent_color1='' background_gradient_color2='' background_gradient_direction=
 'vertical' src='' background_position='top left' background_repeat='no-rep
 eat' highlight='' highlight_size='' animation='' link='' linktarget='' lin
 k_hover='' title_attr='' alt_attr='' mobile_display='' id='' custom_class=
 '' aria_label='' av_uid='av-sc6t75'][/av_one_full]
CATEGORIES:Künstliche Intelligenz &amp; Maschinelles Lernen
LOCATION:VIEHBörse Magdeburg\, Zum Handelshof 3\, Magdeburg\, 39108\, Deut
 schland
GEO:52.121125;11.612609
X-APPLE-STRUCTURED-LOCATION;VALUE=URI;X-ADDRESS=Zum Handelshof 3\, Magdebur
 g\, 39108\, Deutschland;X-APPLE-RADIUS=100;X-TITLE=VIEHBörse Magdeburg:ge
 o:52.121125,11.612609
END:VEVENT
BEGIN:VTIMEZONE
TZID:Europe/Berlin
X-LIC-LOCATION:Europe/Berlin
BEGIN:DAYLIGHT
DTSTART:20210328T030000
TZOFFSETFROM:+0100
TZOFFSETTO:+0200
TZNAME:CEST
END:DAYLIGHT
END:VTIMEZONE
END:VCALENDAR