BEGIN:VCALENDAR
VERSION:2.0
PRODID:-//wp-events-plugin.com//7.2.3.1//EN
TZID:Europe/Berlin
X-WR-TIMEZONE:Europe/Berlin
BEGIN:VEVENT
UID:530@digitalzentrum-magdeburg.de
DTSTART;TZID=Europe/Berlin:20211116T160000
DTEND;TZID=Europe/Berlin:20211116T190000
DTSTAMP:20211112T092159Z
URL:https://www.digitalzentrum-magdeburg.de/termine/praxis-workshop-opc-ua
 /
SUMMARY:Industrie 4.0 – Integration und -Anwendungen – Praxis-Workshop 
 OPC UA
DESCRIPTION:Praxis-Workshop OPC UA (I 4.0-OPC UA)\nErleben Sie Treiber und 
 Grundlagen der Industrie 4.0 (I 4.0) in der Integration und in Anwendungen
  an praktischen Beispielen und Modell-Anlagen in unserer Industrie 4.0-Sta
 ffel. In einem abwechselnden Mix von einführenden Webinaren und praktisch
 en Online-Workshops zeigen wir Ihnen die Inhalte praxisnah auf\, einige Te
 rmine finden hybrid statt!\nAGENDA &amp\; INHALTE\n\nPraxisworkshop (16.11
 .2021 - 16:00-19:00 Uhr)\n\n 	OPC UA\n\n 	Erstellung eines OPC UA Servers 
 mit einfachem Informationsmodell\n 	Erstellung eines OPC UA Clients zum Zu
 griff auf die Serverdaten\n 	Nutzung eines generischen OPC UA Clients\n\n\
 n\nNächster Termin: Einführungswebinar (23.11.2021 - 16:00-17:30 Uhr)\n\
 n 	Einführung in IoT-Standardtechnologien (erleben- und kennenlernen)\n\n
 \n[av_toggle_container faq_markup='' initial='0' mode='accordion' sort='' 
 styling='av-minimal-toggle' colors='' font_color='' background_color='' bo
 rder_color='' colors_current='custom' font_color_current='#b02b2c' backgro
 und_current='' background_color_current='' background_gradient_current_col
 or1='' background_gradient_current_color2='' background_gradient_current_d
 irection='vertical' hover_colors='' hover_background_color='' hover_font_c
 olor='' alb_description='' id='' custom_class='' av_uid='av-2kdyarj']\n[av
 _toggle title='WER SOLLTE TEILNEHMEN?' tags='' custom_id='' av_uid='av-7gi
 zxb']\nDie einzelnen Veranstaltungen richten sich an folgende Zielgruppe b
 zw. Verantwortliche:\n\n 	Produktions-\, Logistik-\, AV-\, Werkzeug-\, Ins
 tandhaltungs-\, Entwicklungs-\, IT-Verantwortliche bzw. -Keyuser:innen in 
 kleinen und mittleren Fertigungsunternehmen\n 	und alle weiteren Interessi
 erten an den Themen Industrie 4.0 und IIoT (Industrial Internet of Things)
 \, z. B. aus Beratung\, Engineering oder Logistik.\n\n[/av_toggle]\n[av_to
 ggle title='WIE ERHALTE ICH EINE TEILNAHMEBESCHEINIGUNG?' tags='' custom_i
 d='' av_uid='av-1kg582n']\nFür Besuche einer Informationsveranstaltung\, 
 i.R. über ca. 1\,5 Stunden oder Nachweis der Kenntnisse in einem Test erh
 alten Sie 3 Punkte. Für die aktive Mitarbeit in den Praxis-Workshops\, i.
 R. über min. ca. 3 Stunden\, dann 6 Punkte. Teilnehmende mit min. 25 Punk
 ten haben sich eine Teilnahmebescheinigung am Blended Learning “Industri
 e 4.0–Integration und –Anwendungen” erarbeitet.\n[/av_toggle]\n[av_t
 oggle title='HINWEIS ZUR NUTZUNG VON ZOOM' tags='' custom_id='' av_uid='av
 -18z0jen']\nMit Ihrer Registrierung und Teilnahme am virtuellen Sprechtag/
 virtuellen Meeting stimmen Sie der Nutzung der Zoom-Plattform der Zoom Vid
 eo Communications\, Inc. zu. Zum Umgang mit personenbezogene Daten verweis
 en wir auf unsere Datenschutzerklärung sowie die verlinkten Angaben des A
 nbieters. Weiterführende Informationen zu unseren gewählten Einstellunge
 n der Zoom-Plattform\, technischen Hinweisen und Anleitungen finden Sie au
 f unserer Seite zur Nutzung von Zoom.\n[/av_toggle]\n[/av_toggle_container
 ]\n\n&nbsp\;\n\nDIE TEILNAHME AN DER VERANSTALTUNG IST KOSTENFREI. EINE AN
 MELDUNG IST JE EINZELTERMIN MÖGLICH UND JEWEILS BIS ZUM VORTRAG 14:00 Uhr
  ERFORDERLICH!\n\n[av_promobox button='no' label='Klick mich' link='manual
 ly\,http://' link_target='' color='theme-color' custom_bg='#ffffff' custom
 _font='#b50900' size='large' icon_select='no' icon='ue800' font='entypo-fo
 ntello' box_color='custom' box_custom_font='#b50900' box_custom_bg='#d3d1d
 1' box_custom_border='#b50900' admin_preview_bg='' av_uid='av-v7d6an']\n
 ►Unsere zuständigen Teammitglieder\n\n\nPeter Schreiber // Digitale Ges
 chäftsmodelle\n\nDr. Matthias Riedl // Nachhaltige Automation und Vernetz
 ung\n\n[/av_promobox]
ATTACH;FMTTYPE=image/jpeg:https://www.digitalzentrum-magdeburg.de/wp-conte
 nt/uploads/2021/06/BL-Staffel-NEU_-8.jpg
CATEGORIES:Digitale Geschäftsmodelle,Nachhaltige Automation und
 Vernetzung
END:VEVENT
BEGIN:VTIMEZONE
TZID:Europe/Berlin
X-LIC-LOCATION:Europe/Berlin
BEGIN:STANDARD
DTSTART:20211031T020000
TZOFFSETFROM:+0200
TZOFFSETTO:+0100
TZNAME:CET
END:STANDARD
END:VTIMEZONE
END:VCALENDAR