BEGIN:VCALENDAR
VERSION:2.0
PRODID:-//wp-events-plugin.com//7.2.3.1//EN
TZID:Europe/Berlin
X-WR-TIMEZONE:Europe/Berlin
BEGIN:VEVENT
UID:618@digitalzentrum-magdeburg.de
DTSTART;TZID=Europe/Berlin:20220210T150000
DTEND;TZID=Europe/Berlin:20220210T160000
DTSTAMP:20220127T090141Z
URL:https://www.digitalzentrum-magdeburg.de/termine/simba-die-multi-solver
 -simulationsumgebung/
SUMMARY:SIMBA – Die Multi-Solver-Simulationsumgebung
DESCRIPTION:[av_textblock size='' av-medium-font-size='' av-small-font-size
 ='' av-mini-font-size='' font_color='' color='' id='' custom_class='' temp
 late_class='' av_uid='av-kytumovf' sc_version='1.0' admin_preview_bg='']\n
 SIMBA – Die Multi-Solver-Simulationsumgebung\nEine Besonderheit von SIMB
 A ist die Fähigkeit\, unterschiedliche Aspekte und Modelldomänen in eine
 m Simulationsmodell zu integrieren und gemeinsam zu simulieren. Wasser- un
 d Abwassersysteme bestehen aus unterschiedlichen technischen und natürlic
 hen Teilsystemen\, die miteinander interagieren.\n\nAktuell wird SIMBA zu 
 einem Multi-Solver-\, Multi-Domänen-Simulationswerkzeug weiterentwickelt.
  Technisch steckt dahinter\, dass die grundlegenden mathematischen Gleichu
 ngen in den einzelnen Teilbranchen unterschiedliche Eigenschaften besitzen
  und eine effiziente numerische Lösung auch unterschiedliche Lösungsans
 ätze erfordern.\n\nUm diese Anforderungen flexibel bedienen zu können is
 t es in SIMBA möglich in einer Blockbibliothek\, einen eigenen Solver fü
 r die entsprechenden Blöcke zu definieren\, die in SIMBA automatisch in e
 in entsprechendes Gesamtmodell integriert werden. Damit lassen sich auch M
 odellierungsansätze für völlig andere Domänen leicht integrieren. Aktu
 ell wird an einem Beispiel mit zeitdiskreten Ereignissen (DES discrete eve
 nt system) gearbeitet. Dies wird zum Beispiel zur Modellierung von Kommuni
 kationssystemen oder zur Logistiksimulation (Warteschlangen etc.) verwende
 t.\n[/av_textblock]\n\n[av_promobox button='yes' label='Anmeldung' icon_se
 lect='no' icon='ue800' font='entypo-fontello' label_display='' color='them
 e-color' custom_bg='#444444' custom_font='#ffffff' size='large' box_color=
 '' box_custom_font='#ffffff' box_custom_bg='#444444' box_custom_border='#3
 33333' gradient_color_direction='vertical' gradient_color_1='#000000' grad
 ient_color_2='#ffffff' gradient_color_3='' border_promo='' border_promo_wi
 dth='' border_promo_width_sync='true' border_promo_color='' border_radius_
 promo='' border_radius_promo_sync='true' box_shadow_promo='' box_shadow_pr
 omo_style='0px\,0px\,0px\,0px' box_shadow_promo_color='' link='manually\,m
 ailto: sekretariat@ifak.eu' link_target='' hover_opacity='' sonar_promo_ef
 fect='' sonar_promo_color='' sonar_promo_duration='1' sonar_promo_scale=''
  sonar_promo_opac='0.5' id='' custom_class='' template_class='' av_uid='av
 -kytus957' sc_version='1.0' admin_preview_bg='']\nVortragender: Dr. Jens A
 lex // Nachhaltige Automation und Vernetzung // Nutzerfreundlichkeit &amp\
 ; Akzeptanz\n[/av_promobox]\n\n[av_textblock size='' av-medium-font-size='
 ' av-small-font-size='' av-mini-font-size='' font_color='' color='' id='' 
 custom_class='' template_class='' av_uid='av-kytusuab' sc_version='1.0' ad
 min_preview_bg='']\nDIE TEILNAHME AN DER VERANSTALTUNG IST KOSTENFREI. EIN
 E ANMELDUNG IST AUFGRUND DER BEGRENZTEN KAPAZITÄTEN BIS ZUM 10.02.2021 (1
 4:30 Uhr) ZWINGEND NOTWENDIG! IHRE ZUGANGSDATEN ERHALTEN SIE PER MAIL UNTE
 R sekretariat@ifak.eu. \n[/av_textblock]
ATTACH;FMTTYPE=image/jpeg:https://www.digitalzentrum-magdeburg.de/wp-conte
 nt/uploads/2020/09/Online_Seminar_Klaeranlage_Zeichenflaeche-1.png
CATEGORIES:Nachhaltige Automation und Vernetzung,Nutzerfreundlichkeit
 &amp; Akzeptanz
END:VEVENT
BEGIN:VTIMEZONE
TZID:Europe/Berlin
X-LIC-LOCATION:Europe/Berlin
BEGIN:STANDARD
DTSTART:20211031T020000
TZOFFSETFROM:+0200
TZOFFSETTO:+0100
TZNAME:CET
END:STANDARD
END:VTIMEZONE
END:VCALENDAR