BEGIN:VCALENDAR
VERSION:2.0
PRODID:-//wp-events-plugin.com//7.2.3.1//EN
TZID:Europe/Berlin
X-WR-TIMEZONE:Europe/Berlin
BEGIN:VEVENT
UID:508@digitalzentrum-magdeburg.de
DTSTART;TZID=Europe/Berlin:20210714T090000
DTEND;TZID=Europe/Berlin:20210714T120000
DTSTAMP:20210706T134201Z
URL:https://www.digitalzentrum-magdeburg.de/termine/simulation-unterstuetz
 ung-planung-und-betriebressourceneffizienter-anlagen/
SUMMARY:Simulation zur Unterstützung von Planung und Betrieb ressourceneff
 izienter Anlagen
DESCRIPTION:Simulation zur Unterstützung von Planung und Betrieb ressource
 neffizienter Anlagen\nIm Seminar wird die Nutzung von Simulationsmodellen 
 für die integrierte Planung und die Optimierung des ressourceneffizienten
  Betriebes verfahrenstechnischer Anlagen vorgestellt. Neben der Anlagenpla
 nung wird insbesondere auf die Anwendungen „Virtuelle Inbetriebnahme von
  Automatisierung“ und „Modellbasierte Betriebsführung“ eingegangen.
  Als Beispiel wird im Seminar auf die integrierte Planung von Kläranlagen
  eingegangen.\n\nDie Themen werden in Form von interaktiven Vorträgen sow
 ie durch Live-Demonstration (Simulationssystem) diskutiert. Es besteht aus
 reichend Gelegenheit zur Diskussion von Anforderungen und Fragen der Teiln
 ehmer zur simulationsgestützten Planung und Betriebsoptimierung von Anlag
 en.\n\nDas Seminar richtet sich sowohl an Entscheidungsträger als auch an
  Fachleute aus dem Bereich der Abwasserbehandlung (Kommunen\, Abwasserverb
 ände\, Ingenieurbüros) sowie an Fachleute aus den Bereichen Planung\, Au
 tomatisierung und Betrieb verfahrenstechnischer Anlagen.\n\nDEN FLYER ZUM 
 ONLINE-SEMINAR KÖNNEN SIE HIER DOWNLOADEN.\n\n[av_toggle_container faq_ma
 rkup='' initial='0' mode='accordion' sort='' styling='av-minimal-toggle' c
 olors='' font_color='' background_color='' border_color='' colors_current=
 'custom' font_color_current='#b02b2c' background_current='' background_col
 or_current='' background_gradient_current_color1='' background_gradient_cu
 rrent_color2='' background_gradient_current_direction='vertical' hover_col
 ors='' hover_background_color='' hover_font_color='' alb_description='' id
 ='' custom_class='' av_uid='']\n[av_toggle title='AGENDA' tags='' custom_i
 d='']\n09:00 Uhr: Eröffnung\, Vorstellung der Leistungen des Kompetenzzen
 trums „Vernetzt Wachsen“\nDr. Jens Alex\, Leiter des Geschäftsfelds W
 asser &amp\; Energie\, ifak e. V.\nDr. Thomas Bangemann\, ifak e. V.\n\n09
 :10 Uhr: Einführung in ein integriertes Simulationssystem (Verfahren\, Au
 srüstung\, MSR)\nMichael Ogurek\, Geschäftsfeld Wasser &amp\; Energie\, 
 ifak e. V.\n\n09:30 Uhr: Nutzung von Simulation zur integrierten Planung v
 on Anlagen\nDr. Jens Alex\, Leiter des Geschäftsfelds Wasser &amp\; Energ
 ie\, ifak e.V.\n\n10:00 Uhr: Diskussion\n\n10:15 Uhr: Kaffeepause\n\n10:25
  Uhr: Virtuelle Inbetriebnahme von Anlagenautomatisierung\nChristian Hübn
 er\, Geschäftsfeld Wasser &amp\; Energie\, ifak e. V.\n\n10:45 Uhr: Model
 lbasierte Betriebsführung\nDr. Jens Alex\, Leiter des Geschäftsfelds Was
 ser &amp\; Energie\, ifak e. V.\n\n11:30 Uhr: Abschlussdiskussion\n[/av_to
 ggle]\n[av_toggle title='HINWEIS ZUR NUTZUNG VON GOTOMEETING' tags='' cust
 om_id='']\nMit Ihrer Registrierung und Teilnahme am virtuellen Meeting sti
 mmen Sie der Nutzung der GoToMeeting-Plattform der LogMeIn Ireland Limited
  zu. Zum Umgang mit personenbezogene Daten verweisen wir auf unsere Datens
 chutzerklärung sowie die verlinkten Angaben des Anbieters.\n[/av_toggle]\
 n\n[/av_toggle_container]\n\n&nbsp\;\n\nDIE TEILNAHME AN DER VERANSTALTUNG
  IST KOSTENFREI. EINE ANMELDUNG IST AUFGRUND DER BEGRENZTEN KAPAZITÄTEN B
 IS ZUM 14.07.2021 (9:00 Uhr) ZWINGEND NOTWENDIG!\n\n\nDIE GOTOMEETING-ZUGA
 NGSDATEN ERHALTEN SIE PER MAIL UNTER SEKRETARIAT@IFAK.EU\n\n[av_promobox b
 utton='no' label='Klick mich' link='manually\,http://' link_target='' colo
 r='theme-color' custom_bg='#ffffff' custom_font='#b50900' size='large' ico
 n_select='no' icon='ue800' font='entypo-fontello' box_color='custom' box_c
 ustom_font='#b50900' box_custom_bg='#d3d1d1' box_custom_border='#b50900' a
 dmin_preview_bg='']\n\n►Referierende\n\nDr. Jens Alex // Nachhaltige Aut
 omation und Vernetzung\n\nDr. Thomas Bangemann // Nachhaltige Automation u
 nd Vernetzung\n\nMichael Ogurek // Nachhaltige Automation und Vernetzung\n
 \nChristian Hübner // Nachhaltige Automation und Vernetzung\n\n[/av_promo
 box]\n\n&nbsp\;
ATTACH;FMTTYPE=image/jpeg:https://www.digitalzentrum-magdeburg.de/wp-conte
 nt/uploads/2021/06/Online_Seminar_Klaeranlage_Zeichenflaeche-1.jpg
CATEGORIES:Nachhaltige Automation und Vernetzung
END:VEVENT
BEGIN:VTIMEZONE
TZID:Europe/Berlin
X-LIC-LOCATION:Europe/Berlin
BEGIN:DAYLIGHT
DTSTART:20210328T030000
TZOFFSETFROM:+0100
TZOFFSETTO:+0200
TZNAME:CEST
END:DAYLIGHT
END:VTIMEZONE
END:VCALENDAR