BEGIN:VCALENDAR
VERSION:2.0
PRODID:-//wp-events-plugin.com//7.2.3.1//EN
TZID:Europe/Berlin
X-WR-TIMEZONE:Europe/Berlin
BEGIN:VEVENT
UID:1128@digitalzentrum-magdeburg.de
DTSTART;TZID=Europe/Berlin:20251007T100000
DTEND;TZID=Europe/Berlin:20251007T150000
DTSTAMP:20251002T111419Z
URL:https://www.digitalzentrum-magdeburg.de/termine/social-media-planung-u
 nd-erstellung-teilautomatisieren-3/
SUMMARY:Online & unSichtbar? - Workshop: Social-Media-Planung und Erstellun
 g teilautomatisieren
DESCRIPTION:Social-Media-Beiträge werden idealerweise vorgeplant\, um kont
 inuierlich Content für die Zielgruppe zu produzieren. Social-Media-Manage
 ment-Tools sind teilweise teuer\, warum also nicht eines selbst bauen? Im 
 Workshop schauen wir konkret\, wie das mit sogenannten Low- und No-Code-Pl
 attformen auch ohne Programmiererfahrung funktionieren kann. Darfs ein Sch
 uss KI dazu sein? Warum nicht die KI ein paar automatische Vorschläge ent
 wickeln lassen\, die wir dann in der Planung verfeinern und freigeben? Pro
 bieren wir es aus!
ATTACH;FMTTYPE=image/jpeg:https://www.digitalzentrum-magdeburg.de/wp-conte
 nt/uploads/2024/11/Google-Unternehmensprofil_640px.jpg.png
CATEGORIES:Digitale Geschäftsmodelle
LOCATION:Elbfabrik des Fraunhofer IFF\, Joseph-von-Fraunhofer-Straße 1\, M
 agdeburg \, Deutschland
GEO:52.141505;11.65717
X-APPLE-STRUCTURED-LOCATION;VALUE=URI;X-ADDRESS=Joseph-von-Fraunhofer-Stra
 ße 1\, Magdeburg \, Deutschland;X-APPLE-RADIUS=100;X-TITLE=Elbfabrik des 
 Fraunhofer IFF:geo:52.141505,11.65717
END:VEVENT
BEGIN:VTIMEZONE
TZID:Europe/Berlin
X-LIC-LOCATION:Europe/Berlin
BEGIN:DAYLIGHT
DTSTART:20250330T030000
TZOFFSETFROM:+0100
TZOFFSETTO:+0200
TZNAME:CEST
END:DAYLIGHT
END:VTIMEZONE
END:VCALENDAR