BEGIN:VCALENDAR
VERSION:2.0
PRODID:-//wp-events-plugin.com//7.2.3.1//EN
TZID:Europe/Berlin
X-WR-TIMEZONE:Europe/Berlin
BEGIN:VEVENT
UID:1132@digitalzentrum-magdeburg.de
DTSTART;TZID=Europe/Berlin:20250814T160000
DTEND;TZID=Europe/Berlin:20250814T170000
DTSTAMP:20250716T150521Z
URL:https://www.digitalzentrum-magdeburg.de/termine/visualisierung-von-sch
 allwellen/
SUMMARY:Digitalisierung zum Anfassen: Visualisierung von Schallwellen
DESCRIPTION:Im Anschluss an die Veranstaltung „Unsichtbare Wellen sichtba
 r machen – Innovative Schallfeldvisualisierung in technischen Anwendunge
 n“ besteht für die Teilnehmenden die Möglichkeit\, eine praktische Sch
 allmessung an einem Schlierenmessplatz im Labor des ifak live mitzuerleben
 .
ATTACH;FMTTYPE=image/jpeg:https://www.digitalzentrum-magdeburg.de/wp-conte
 nt/uploads/2025/07/Schallwellen2-1.jpg
CATEGORIES:Nachhaltige Automation und Vernetzung
LOCATION:Denkfabrik des ifak – Institut für Automation und Kommunikation
  e.V.\, Werner-Heisenberg-Straße 1\, Magdeburg\, Sachsen-Anhalt\, 39106\,
  Deutschland
GEO:52.142336;11.657368399999996
X-APPLE-STRUCTURED-LOCATION;VALUE=URI;X-ADDRESS=Werner-Heisenberg-Straße 1
 \, Magdeburg\, Sachsen-Anhalt\, 39106\, Deutschland;X-APPLE-RADIUS=100;X-T
 ITLE=Denkfabrik des ifak – Institut für Automation und Kommunikation e.
 V.:geo:52.142336,11.657368399999996
END:VEVENT
BEGIN:VTIMEZONE
TZID:Europe/Berlin
X-LIC-LOCATION:Europe/Berlin
BEGIN:DAYLIGHT
DTSTART:20250330T030000
TZOFFSETFROM:+0100
TZOFFSETTO:+0200
TZNAME:CEST
END:DAYLIGHT
END:VTIMEZONE
END:VCALENDAR