BEGIN:VCALENDAR
VERSION:2.0
PRODID:-//wp-events-plugin.com//7.2.3.1//EN
TZID:Europe/Berlin
X-WR-TIMEZONE:Europe/Berlin
BEGIN:VEVENT
UID:573@digitalzentrum-magdeburg.de
DTSTART;TZID=Europe/Berlin:20211207T100000
DTEND;TZID=Europe/Berlin:20211207T110000
DTSTAMP:20211130T090902Z
URL:https://www.digitalzentrum-magdeburg.de/termine/webinarreihe-wie-wird-
 kuenstliche-intelligenz-im-unternehmen-menschenzentriert-teil-2/
SUMMARY:Webinarreihe: Wie wird Künstliche Intelligenz im Unternehmen mensc
 henzentriert | Teil 2
DESCRIPTION:Ab dem 30.11.2021 dreht sich jeden Dienstag in der Zeit von 10 
 bis 11 Uhr alles um diese Fragen. Sie erfahren\, welche Methoden des Masch
 inellen Lernens existieren. Anhand zahlreicher Praxisbeispiele erhalten Si
 e wertvolle Einblicke in die Zusammenarbeit von Menschen und KI-basierten 
 Systemen. Wir informieren Sie über die damit einhergehenden Vorteile und 
 Herausforderungen.
ATTACH;FMTTYPE=image/jpeg:https://www.digitalzentrum-magdeburg.de/wp-conte
 nt/uploads/2021/10/VST-Header_KI-Mensch01.jpg
CATEGORIES:Künstliche Intelligenz &amp; Maschinelles Lernen
END:VEVENT
BEGIN:VTIMEZONE
TZID:Europe/Berlin
X-LIC-LOCATION:Europe/Berlin
BEGIN:STANDARD
DTSTART:20211031T020000
TZOFFSETFROM:+0200
TZOFFSETTO:+0100
TZNAME:CET
END:STANDARD
END:VTIMEZONE
END:VCALENDAR