BEGIN:VCALENDAR
VERSION:2.0
PRODID:-//wp-events-plugin.com//7.2.3.1//EN
TZID:Europe/Berlin
X-WR-TIMEZONE:Europe/Berlin
BEGIN:VEVENT
UID:1188@digitalzentrum-magdeburg.de
DTSTART;TZID=Europe/Berlin:20260310T110000
DTEND;TZID=Europe/Berlin:20260310T160000
DTSTAMP:20260304T111411Z
URL:https://www.digitalzentrum-magdeburg.de/termine/wie-unternehmen-gehack
 t-werden-und-was-hilft/
SUMMARY:Ein Klick zu viel: Wie Unternehmen gehackt werden und was hilft
DESCRIPTION:Ein Blick in das aktuelle CYBERsicher Lagebild zeigt\, IT-Siche
 rheit betrifft jedes Unternehmen – unabhängig von Größe oder Branche.
  Unser Workshop zeigt praxisnah\, wie leicht es Cyberangreifer tatsächlic
 h haben\, wie Unternehmen im Ernstfall richtig reagieren und wie IT-Sicher
 heit langfristig und systematisch aufgebaut werden kann. Anhand realer Bei
 spiele erhalten kleine und mittlere Unternehmen konkrete Handlungsempfehlu
 ngen – ohne Fachchinesisch\, aber mit direktem Mehrwert für den Unterne
 hmensalltag.
ATTACH;FMTTYPE=image/jpeg:https://www.digitalzentrum-magdeburg.de/wp-conte
 nt/uploads/2026/01/IT-Sicherheit_Angriff_Workshop.png
CATEGORIES:IT-Strategien &amp; Sicherheit
LOCATION:IHK Magdeburg\, Alter Markt 8\, Magdeburg \, 39104\, Deutschland
X-APPLE-STRUCTURED-LOCATION;VALUE=URI;X-ADDRESS=Alter Markt 8\, Magdeburg \
 , 39104\, Deutschland;X-APPLE-RADIUS=100;X-TITLE=IHK Magdeburg:geo:0,0
END:VEVENT
BEGIN:VTIMEZONE
TZID:Europe/Berlin
X-LIC-LOCATION:Europe/Berlin
BEGIN:STANDARD
DTSTART:20251026T020000
TZOFFSETFROM:+0200
TZOFFSETTO:+0100
TZNAME:CET
END:STANDARD
END:VTIMEZONE
END:VCALENDAR