BEGIN:VCALENDAR
VERSION:2.0
PRODID:-//wp-events-plugin.com//7.2.3.1//EN
TZID:Europe/Berlin
X-WR-TIMEZONE:Europe/Berlin
BEGIN:VEVENT
UID:1103@digitalzentrum-magdeburg.de
DTSTART;TZID=Europe/Berlin:20250916T100000
DTEND;TZID=Europe/Berlin:20250916T110000
DTSTAMP:20250916T132612Z
URL:https://www.digitalzentrum-magdeburg.de/termine/wissensmanagement-mit-
 strukturierten-wikis-unterstuetzen-2/
SUMMARY:Wissensmanagement mit strukturierten Wikis unterstützen
DESCRIPTION:Innerhalb von Unternehmen sind Informationen und Wissen längst
  die wichtigsten Ressourcen geworden. Doch wie lassen sich diese adäquat 
 verfügbar machen? Inzwischen sind Wikis ein hervorragendes Instrument\, u
 m gemeinsam Informationen zusammen zu tragen\, weiter zu entwickeln und f
 ür alle Beteiligten zugreifbar zu machen. Der Vortrag zeigt auf\, wie mit
  kostenfreier Software ein strukturiertes Wiki aufgebaut werden kann.
ATTACH;FMTTYPE=image/jpeg:https://www.digitalzentrum-magdeburg.de/wp-conte
 nt/uploads/2024/10/VST-Wissensmanagement.png
CATEGORIES:Digitale Geschäftsmodelle
END:VEVENT
BEGIN:VTIMEZONE
TZID:Europe/Berlin
X-LIC-LOCATION:Europe/Berlin
BEGIN:DAYLIGHT
DTSTART:20250330T030000
TZOFFSETFROM:+0100
TZOFFSETTO:+0200
TZNAME:CEST
END:DAYLIGHT
END:VTIMEZONE
END:VCALENDAR